Workbook

Sheet Tabelka
C2: Przewidywane straty związane z nakładanymi karami
D3: 0 | E3: 1 | F3: 2 | G3: 3 | H3: 4 | I3: 5 | J3: 6 | K3: 7 | L3: 8 | M3: 9 | N3: 10 | O3: Łącznie (0-10)
C4: duże przedsiębiorstwa | D4: ='Koszty dla przedsiębiorców+JST'!D4 -> -3.7026677 | E4: ='Koszty dla przedsiębiorców+JST'!E4 -> -70.55639 | F4: ='Koszty dla przedsiębiorców+JST'!F4 -> -72.390856 | G4: ='Koszty dla przedsiębiorców+JST'!G4 -> -73.983455 | H4: ='Koszty dla przedsiębiorców+JST'!H4 -> -76.128975 | I4: ='Koszty dla przedsiębiorców+JST'!I4 -> -78.260586 | J4: ='Koszty dla przedsiębiorców+JST'!J4 -> -80.373622 | K4: ='Koszty dla przedsiębiorców+JST'!K4 -> -82.302589 | ... N4: ='Koszty dla przedsiębiorców+JST'!N4 -> -88.026783 | O4: =SUM(D4:N4) -> -796.22002
C5: sektor mikro-, małych i średnich przedsiębiorstw | D5: ='Koszty dla przedsiębiorców+JST'!D5 -> -0.92566692 | E5: ='Koszty dla przedsiębiorców+JST'!E5 -> -17.639097 | F5: ='Koszty dla przedsiębiorców+JST'!F5 -> -18.097714 | G5: ='Koszty dla przedsiębiorców+JST'!G5 -> -18.495864 | H5: ='Koszty dla przedsiębiorców+JST'!H5 -> -19.032244 | I5: ='Koszty dla przedsiębiorców+JST'!I5 -> -19.565147 | J5: ='Koszty dla przedsiębiorców+JST'!J5 -> -20.093406 | K5: ='Koszty dla przedsiębiorców+JST'!K5 -> -20.575647 | ... N5: ='Koszty dla przedsiębiorców+JST'!N5 -> -22.006696 | O5: =SUM(D5:N5) -> -199.055
D8: Przewidywane przychody z kar nałożonych na przedsiębiorców wg lat od wejścia w życie ustawy (mln zł)
D9: 0 | E9: 1 | F9: 2 | G9: 3 | H9: 4 | I9: 5 | J9: 6 | K9: 7 | L9: 8 | M9: 9 | N9: 10 | O9: Łącznie (0-10)
D10: =-1*(D4+D5) -> 4.6283346 | E10: =-1*(E4+E5) -> 88.195487 | F10: =-1*(F4+F5) -> 90.48857 | G10: =-1*(G4+G5) -> 92.479319 | H10: =-1*(H4+H5) -> 95.161219 | I10: =-1*(I4+I5) -> 97.825733 | J10: =-1*(J4+J5) -> 100.46703 | K10: =-1*(K4+K5) -> 102.87824 | ... N10: =-1*(N4+N5) -> 110.03348 | O10: =SUM(D10:N10) -> 995.27502
C14: Wpływ na sektor finansów publicznych
C15: (ceny stałe z roku 0) | D15: Skutki w okresie 10 lat od wejścia w życie zmian [mln zł]
D16: 0 | E16: 1 | F16: 2 | G16: 3 | H16: 4 | I16: 5 | J16: 6 | K16: 7 | L16: 8 | M16: 9 | N16: 10 | O16: Łącznie (0-10)
C17: Dochody ogółem | D17: =D18+D19+D20 -> 0 | E17: =E18+E19+E20 -> 0 | F17: =F18+F19+F20 -> 0 | G17: =G18+G19+G20 -> 0 | H17: =H18+H19+H20 -> 0 | I17: =I18+I19+I20 -> 0 | J17: =J18+J19+J20 -> 0 | K17: =K18+K19+K20 -> 0 | ... N17: =N18+N19+N20 -> 0 | O17: =SUM(D17:N17) -> 0
C18: budżet państwa | D18: 0 | E18: 0 | F18: 0 | G18: 0 | H18: 0 | I18: 0 | J18: 0 | K18: 0 | L18: 0 | M18: 0 | N18: 0 | O18: =SUM(D18:N18) -> 0
C19: JST | D19: 0 | E19: 0 | F19: 0 | G19: 0 | H19: 0 | I19: 0 | J19: 0 | K19: 0 | L19: 0 | M19: 0 | N19: 0 | O19: =SUM(D19:N19) -> 0
C20: pozostałe jednostki | D20: 0 | E20: 0 | F20: 0 | G20: 0 | H20: 0 | I20: 0 | J20: 0 | K20: 0 | L20: 0 | M20: 0 | N20: 0 | O20: =SUM(D20:N20) -> 0
C21: Wydatki ogółem | D21: =D22+D23+D24 -> 6.4546354 | E21: =E22+E23+E24 -> 6.2304308 | F21: =F22+F23+F24 -> 6.4057854 | G21: =G22+G23+G24 -> 6.527189 | H21: =H22+H23+H24 -> 6.7121757 | I21: =I22+I23+I24 -> 6.8478993 | J21: =J22+J23+J24 -> 7.0452913 | K21: =K22+K23+K24 -> 7.1945742 | ... N21: =N22+N23+N24 -> 7.7766833 | O21: =SUM(D21:N21) -> 76.155423
C22: budżet państwa | D22: =(SUM('Panel kontrolny'!AF19:AF21)+'Koszty pozostałe'!F55)/1000000 -> 6.4546354 | E22: =(SUM('Panel kontrolny'!AG19:AG21)+'Koszty pozostałe'!G55)/1000000 -> 6.2304308 | F22: =(SUM('Panel kontrolny'!AH19:AH21)+'Koszty pozostałe'!H55)/1000000 -> 6.4057854 | G22: =(SUM('Panel kontrolny'!AI19:AI21)+'Koszty pozostałe'!I55)/1000000 -> 6.527189 | H22: =(SUM('Panel kontrolny'!AJ19:AJ21)+'Koszty pozostałe'!J55)/1000000 -> 6.7121757 | I22: =(SUM('Panel kontrolny'!AK19:AK21)+'Koszty pozostałe'!K55)/1000000 -> 6.8478993 | J22: =(SUM('Panel kontrolny'!AL19:AL21)+'Koszty pozostałe'!L55)/1000000 -> 7.0452913 | K22: =(SUM('Panel kontrolny'!AM19:AM21)+'Koszty pozostałe'!M55)/1000000 -> 7.1945742 | ... N22: =(SUM('Panel kontrolny'!AP19:AP21)+'Koszty pozostałe'!P55)/1000000 -> 7.7766833 | O22: =SUM(D22:N22) -> 76.155423
C23: JST | D23: 0 | E23: 0 | F23: 0 | G23: 0 | H23: 0 | I23: 0 | J23: 0 | K23: 0 | L23: 0 | M23: 0 | N23: 0 | O23: =SUM(D23:N23) -> 0
C24: pozostałe jednostki | D24: 0 | E24: 0 | F24: 0 | G24: 0 | H24: 0 | I24: 0 | J24: 0 | K24: 0 | L24: 0 | M24: 0 | N24: 0 | O24: =SUM(D24:N24) -> 0
C25: Saldo ogółem | D25: =D26+D27+D28 -> -6.4546354 | E25: =E26+E27+E28 -> -6.2304308 | F25: =F26+F27+F28 -> -6.4057854 | G25: =G26+G27+G28 -> -6.527189 | H25: =H26+H27+H28 -> -6.7121757 | I25: =I26+I27+I28 -> -6.8478993 | J25: =J26+J27+J28 -> -7.0452913 | K25: =K26+K27+K28 -> -7.1945742 | ... N25: =N26+N27+N28 -> -7.7766833 | O25: =SUM(D25:N25) -> -76.155423
C26: budżet państwa | D26: =D18-D22 -> -6.4546354 | E26: =E18-E22 -> -6.2304308 | F26: =F18-F22 -> -6.4057854 | G26: =G18-G22 -> -6.527189 | H26: =H18-H22 -> -6.7121757 | I26: =I18-I22 -> -6.8478993 | J26: =J18-J22 -> -7.0452913 | K26: =K18-K22 -> -7.1945742 | ... N26: =N18-N22 -> -7.7766833 | O26: =SUM(D26:N26) -> -76.155423
C27: JST | D27: =D19-D23 -> 0 | E27: =E19-E23 -> 0 | F27: =F19-F23 -> 0 | G27: =G19-G23 -> 0 | H27: =H19-H23 -> 0 | I27: =I19-I23 -> 0 | J27: =J19-J23 -> 0 | K27: =K19-K23 -> 0 | ... N27: =N19-N23 -> 0 | O27: =SUM(D27:N27) -> 0
C28: pozostałe jednostki | D28: 0 | E28: 0 | F28: 0 | G28: 0 | H28: 0 | I28: 0 | J28: 0 | K28: 0 | L28: 0 | M28: 0 | N28: 0 | O28: =SUM(D28:N28) -> 0
D32: Skutki w okresie 10 lat od wejścia w życie zmian [mln zł]
D33: 0 | E33: 1 | F33: 2 | G33: 3 | H33: 4 | I33: 5 | J33: 6 | K33: 7 | L33: 8 | M33: 9 | N33: 10 | O33: Łącznie (0-10)
B34: Wynagrodzenia i pochodne wynagrodzeń | C34: Dyrektorzy | D34: ='Panel kontrolny'!AF21/1000000 -> 0.36673323 | E34: ='Panel kontrolny'!AG21/1000000 -> 0.40518163 | F34: ='Panel kontrolny'!AH21/1000000 -> 0.41622824 | G34: ='Panel kontrolny'!AI21/1000000 -> 0.42409705 | H34: ='Panel kontrolny'!AJ21/1000000 -> 0.43598764 | I34: ='Panel kontrolny'!AK21/1000000 -> 0.44546757 | J34: ='Panel kontrolny'!AL21/1000000 -> 0.45805951 | K34: ='Panel kontrolny'!AM21/1000000 -> 0.46801937 | ... N34: ='Panel kontrolny'!AP21/1000000 -> 0.50561199 | O34: =SUM(D34:N34) -> 4.8983478
C35: Pracownicy | D35: ='Panel kontrolny'!AF19/1000000 -> 3.2482656 | E35: ='Panel kontrolny'!AG19/1000000 -> 3.5779182 | F35: ='Panel kontrolny'!AH19/1000000 -> 3.6849443 | G35: ='Panel kontrolny'!AI19/1000000 -> 3.7449456 | H35: ='Panel kontrolny'!AJ19/1000000 -> 3.8598803 | I35: ='Panel kontrolny'!AK19/1000000 -> 3.9336612 | J35: ='Panel kontrolny'!AL19/1000000 -> 4.0552867 | K35: ='Panel kontrolny'!AM19/1000000 -> 4.1328028 | ... N35: ='Panel kontrolny'!AP19/1000000 -> 4.4762778 | O35: =SUM(D35:N35) -> 43.316594
C36: Wspomagające (księgowość) | D36: ='Panel kontrolny'!AF20/1000000 -> 0.2030166 | E36: ='Panel kontrolny'!AG20/1000000 -> 0.22361989 | F36: ='Panel kontrolny'!AH20/1000000 -> 0.23030902 | G36: ='Panel kontrolny'!AI20/1000000 -> 0.2340591 | H36: ='Panel kontrolny'!AJ20/1000000 -> 0.24124252 | I36: ='Panel kontrolny'!AK20/1000000 -> 0.24585383 | J36: ='Panel kontrolny'!AL20/1000000 -> 0.25345542 | K36: ='Panel kontrolny'!AM20/1000000 -> 0.25830017 | ... N36: ='Panel kontrolny'!AP20/1000000 -> 0.27976736 | O36: =SUM(D36:N36) -> 2.7072871
B37: Wydatki związane z utworzeniem nowych stanowisk pracy | C37: Dyrektorzy | D37: =SUM('Koszty pozostałe'!F9:F13)/1000000 -> 0.03282463 | E37: =SUM('Koszty pozostałe'!G9:G13)/1000000 -> 0.0070355491 | F37: =SUM('Koszty pozostałe'!H9:H13)/1000000 -> 0.0072114379 | G37: =SUM('Koszty pozostałe'!I9:I13)/1000000 -> 0.0073845124 | H37: =SUM('Koszty pozostałe'!J9:J13)/1000000 -> 0.0075617407 | I37: =SUM('Koszty pozostałe'!K9:K13)/1000000 -> 0.007728099 | J37: =SUM('Koszty pozostałe'!L9:L13)/1000000 -> 0.0079213015 | K37: =SUM('Koszty pozostałe'!M9:M13)/1000000 -> 0.008119334 | ... N37: =SUM('Koszty pozostałe'!P9:P13)/1000000 -> 0.0087436347 | O37: =SUM(D37:N37) -> 0.11138293
C38: Pracownicy | D38: =SUM('Koszty pozostałe'!F15:F19)/1000000 -> 0.52519408 | E38: =SUM('Koszty pozostałe'!G15:G19)/1000000 -> 0.11258479 | F38: =SUM('Koszty pozostałe'!H15:H19)/1000000 -> 0.11539941 | G38: =SUM('Koszty pozostałe'!I15:I19)/1000000 -> 0.11816899 | H38: =SUM('Koszty pozostałe'!J15:J19)/1000000 -> 0.12100505 | I38: =SUM('Koszty pozostałe'!K15:K19)/1000000 -> 0.12366716 | J38: =SUM('Koszty pozostałe'!L15:L19)/1000000 -> 0.12675884 | K38: =SUM('Koszty pozostałe'!M15:M19)/1000000 -> 0.12992781 | ... N38: =SUM('Koszty pozostałe'!P15:P19)/1000000 -> 0.13991804 | O38: =SUM(D38:N38) -> 1.7823056
C39: Wspomagające (księgowość) | D39: =SUM('Koszty pozostałe'!F5:F7)/1000000 -> 0.02992463 | E39: =SUM('Koszty pozostałe'!G5:G7)/1000000 -> 0.0056835491 | F39: =SUM('Koszty pozostałe'!H5:H7)/1000000 -> 0.0058256379 | G39: =SUM('Koszty pozostałe'!I5:I7)/1000000 -> 0.0059654532 | H39: =SUM('Koszty pozostałe'!J5:J7)/1000000 -> 0.0061086241 | I39: =SUM('Koszty pozostałe'!K5:K7)/1000000 -> 0.0062430138 | J39: =SUM('Koszty pozostałe'!L5:L7)/1000000 -> 0.0063990891 | K39: =SUM('Koszty pozostałe'!M5:M7)/1000000 -> 0.0065590664 | ... N39: =SUM('Koszty pozostałe'!P5:P7)/1000000 -> 0.0070633971 | O39: =SUM(D39:N39) -> 0.093386623
B40: Wydatki związane z realizacją zadań* | C40: UOKiK | D40: =SUM('Koszty pozostałe'!F59:F65)/1000000 -> 2.0486766 | E40: =SUM('Koszty pozostałe'!G59:G65)/1000000 -> 1.8984072 | F40: =SUM('Koszty pozostałe'!H59:H65)/1000000 -> 1.9458674 | G40: =SUM('Koszty pozostałe'!I59:I65)/1000000 -> 1.9925682 | H40: =SUM('Koszty pozostałe'!J59:J65)/1000000 -> 2.0403898 | I40: =SUM('Koszty pozostałe'!K59:K65)/1000000 -> 2.0852784 | J40: =SUM('Koszty pozostałe'!L59:L65)/1000000 -> 2.1374104 | K40: =SUM('Koszty pozostałe'!M59:M65)/1000000 -> 2.1908456 | ... N40: =SUM('Koszty pozostałe'!P59:P65)/1000000 -> 2.3593011 | O40: =SUM(D40:N40) -> 23.246119
B41: Suma | D41: =SUM(D34:D40) -> 6.4546354 | E41: =SUM(E34:E40) -> 6.2304308 | F41: =SUM(F34:F40) -> 6.4057854 | G41: =SUM(G34:G40) -> 6.527189 | H41: =SUM(H34:H40) -> 6.7121757 | I41: =SUM(I34:I40) -> 6.8478993 | J41: =SUM(J34:J40) -> 7.0452913 | K41: =SUM(K34:K40) -> 7.1945742 | ... N41: =SUM(N34:N40) -> 7.7766833 | O41: =SUM(D41:N41) -> 76.155423
O43: =SUM(O34:O36)*1000000 -> 50922229
O44: =SUM(O34:O40) -> 76.155423

Sheet Koszty osobowe
A2: założenie: akt prawny wchodzi w życie od 01.01.2027 r. (UC142)
A3: OSR - CPC | D3: wynagrodzenia oraz dotatkowe wynagrodzenie roczne wraz pochodnymi | P3: dodtakowe wydatki związane z zatrudnieniem | AD3: oddziaływanie | AJ3: {=TRANSPOSE(A3:U16)} -> OSR - CPC | AK3: 0 | AL3: 2027 | AM3: 2028 | AN3: 2029 | AO3: 2030 | AP3: 2031 | AQ3: 2032 | AR3: 2033 | AS3: 2034 | AT3: 2035 | AU3: 2036 | AV3: 2037 | AW3: OGÓŁEM | AZ3: {=TRANSPOSE(A21:U34)} -> OSR - CPC | BA3: 0 | BB3: 2027 | BC3: 2028 | BD3: 2029 | BE3: 2030 | BF3: 2031 | BG3: 2032 | BH3: 2033 | BI3: 2034 | BJ3: 2035 | BK3: 2036 | BL3: 2037 | BM3: OGÓŁEM | BP3: {=TRANSPOSE(A43:U56)} -> OSR - CPC | BQ3: 0 | BR3: 2027 | BS3: 2028 | BT3: 2029 | BU3: 2030 | BV3: 2031 | BW3: 2032 | BX3: 2033 | BY3: 2034 | BZ3: 2035 | CA3: 2036 | CB3: 2037 | CC3: OGÓŁEM
C4: liczba etatów | D4: średnia płaca w UOKiK dla korpusu służby cywilnej z uwzględnieniem stopy wzrostu - pracownicy merytoryczni | E4: wzrost kosztów (CPI) | F4: liczba miesięcy | G4: wynagrodzenie | H4: pochodne Fundusz Pracy i Fundusz Solidarnościowy | I4: pochodne ZUS | J4: PPK | K4: DWR | L4: pochodne Fundusz Pracy i Fundusz Solidarnościowy | M4: pochodne ZUS | N4: PPK | O4: razem wynagrodzenia | P4: ZFŚS | Q4: medycyna pracy (badania wstępne) | R4: medycyna pracy (badania okresowe) | S4: BHP (dofinansowanie okularów do pracy przy komputerze) | T4: razem koszty dodatkowe | U4: razem | X4: wynagrodzenie brutto razem z DWR | Y4: składki ZUS pracownika | Z4: koszty uzyskania przychodu | AA4: dochód do opodatkowania | AB4: dochód na 1 etat | AC4: szacunkowe zaliczki na podatek dochodowy 1 etat (oddziaływanie na US) | AD4: szacunkowe zaliczki na podatek dochodowy (oddziaływanie na US) | AE4: szacunkowe składki ZUS (oddziaływanie na ZUS) | AF4: szacunkowa składka zdrowotna (oddziaływanie na NFZ) | AG4: pochodne Fundusz Pracy i Fundusz Solidarnościowy | AJ4: 0 | AK4: 0 | AL4: rok "0" | AM4: 1 | AN4: 2 | AO4: 3 | AP4: 4 | AQ4: 5 | AR4: 6 | AS4: 7 | AT4: 8 | AU4: 9 | AV4: 10 | AW4: 0 | AZ4: 0 | BA4: 0 | BB4: rok "0" | BC4: 1 | BD4: 2 | BE4: 3 | BF4: 4 | BG4: 5 | BH4: 6 | BI4: 7 | BJ4: 8 | BK4: 9 | BL4: 10 | BM4: 0 | BP4: 0 | BQ4: 0 | BR4: rok "0" | BS4: 1 | BT4: 2 | BU4: 3 | BV4: 4 | BW4: 5 | BX4: 6 | BY4: 7 | BZ4: 8 | CA4: 9 | CB4: 10 | CC4: 0
A5: 2027 | B5: rok "0" | C5: 16 | D5: 13713.557 | E5: 0 | F5: 12 | G5: =C5*D5*F5 -> 2633002.9 | H5: =G5*2.45% -> 64508.572 | I5: =G5*16.93% -> 445767.4 | J5: =G5*1.5% -> 39495.044 | K5: 0 | L5: =K5*2.45% -> 0 | M5: =K5*17.19% -> 0 | N5: =K5*1.5% -> 0 | O5: =SUM(G5:N5) -> 3182774 | P5: =2943.23*C5 -> 47091.68 | Q5: =C5*550 -> 8800 | S5: =C5*(600) -> 9600 | T5: =SUM(P5:S5) -> 65491.68 | U5: =(O5+T5) -> 3248265.6 | X5: =G5+K5 -> 2633002.9 | Y5: =X5*13.71% -> 360984.7 | Z5: =F5*250*C5 -> 48000 | AA5: =X5-Y5-Z5 -> 2224018.2 | AB5: =AA5/C5 -> 139001.14 | AC5: =IF(AB5<120000,((AB5*0.12)-3600),((10800+((AB5-120000)*0.32)))) -> 16880.365 | AD5: =AC5*C5 -> 270085.84 | AE5: =I5+M5+Y5 -> 806752.1 | AF5: =(X5-Y5)*0.09 -> 204481.64 | AG5: =H5+L5 -> 64508.572 | AJ5: 0 | AK5: liczba etatów | AL5: 16 | AM5: 16 | AN5: 16 | AO5: 16 | AP5: 16 | AQ5: 16 | AR5: 16 | AS5: 16 | AT5: 16 | AU5: 16 | AV5: 16 | AW5: 0 | AZ5: 0 | BA5: liczba etatów | BB5: 1 | BC5: 1 | BD5: 1 | BE5: 1 | BF5: 1 | BG5: 1 | BH5: 1 | BI5: 1 | BJ5: 1 | BK5: 1 | BL5: 1 | BM5: 0 | BP5: 0 | BQ5: liczba etatów | BR5: 1 | BS5: 1 | BT5: 1 | BU5: 1 | BV5: 1 | BW5: 1 | BX5: 1 | BY5: 1 | BZ5: 1 | CA5: 1 | CB5: 1 | CC5: 0
A6: 2028 | B6: 1 | C6: 16 | D6: =D5*E6 -> 14042.682 | E6: 1.024 | F6: 12 | G6: =C6*D6*F6 -> 2696195 | H6: =G6*2.45% -> 66056.778 | I6: =G6*16.93% -> 456465.82 | J6: =G6*1.5% -> 40442.925 | K6: =G5*8.5% -> 223805.25 | L6: =K6*2.45% -> 5483.2286 | M6: =K6*16.93% -> 37890.229 | N6: =K6*1.5% -> 3357.0788 | O6: =SUM(G6:N6) -> 3529696.3 | P6: =P5*E6 -> 48221.88 | T6: =SUM(P6:S6) -> 48221.88 | U6: =O6+T6 -> 3577918.2 | X6: =G6+K6 -> 2920000.3 | Y6: =X6*13.71% -> 400332.04 | Z6: =F6*250*C6 -> 48000 | AA6: =X6-Y6-Z6 -> 2471668.2 | AB6: =AA6/C6 -> 154479.26 | AC6: =IF(AB6<120000,((AB6*0.12)-3600),((10800+((AB6-120000)*0.32)))) -> 21833.365 | AD6: =AC6*C6 -> 349333.83 | AE6: =I6+M6+Y6 -> 894688.08 | AF6: =(X6-Y6)*0.09 -> 226770.14 | AG6: =H6+L6 -> 71540.006 | AJ6: wynagrodzenia oraz dotatkowe wynagrodzenie roczne wraz pochodnymi | AK6: średnia płaca w UOKiK dla korpusu służby cywilnej z uwzględnieniem stopy wzrostu - pracownicy merytoryczni | AL6: 13713.557 | AM6: 14042.682 | AN6: 14379.707 | AO6: 14696.06 | AP6: 15063.462 | AQ6: 15440.048 | AR6: 15826.05 | AS6: 16221.701 | AT6: 16627.243 | AU6: 17042.924 | AV6: 17468.998 | AW6: 0 | AZ6: wynagrodzenia oraz dotatkowe wynagrodzenie roczne wraz pochodnymi | BA6: średnia płaca w UOKiK dla korpusu służby cywilnej z uwzględnieniem stopy wzrostu - pracownik obsługi | BB6: 13713.557 | BC6: 14042.682 | BD6: 14379.707 | BE6: 14696.06 | BF6: 15063.462 | BG6: 15440.048 | BH6: 15826.05 | BI6: 16221.701 | BJ6: 16627.243 | BK6: 17042.924 | BL6: 17468.998 | BM6: 0 | BP6: wynagrodzenia oraz dotatkowe wynagrodzenie roczne wraz pochodnymi | BQ6: średnia płaca w UOKiK dla korpusu służby cywilnej z uwzględnieniem stopy wzrostu - wyższe stanowiska | BR6: 25000 | BS6: 25600 | BT6: 26214.4 | BU6: 26791.117 | BV6: 27460.895 | BW6: 28147.417 | BX6: 28851.103 | BY6: 29572.38 | BZ6: 30311.69 | CA6: 31069.482 | CB6: 31846.219 | CC6: 0
A7: 2029 | B7: 2 | C7: 16 | D7: =D6*E7 -> 14379.707 | E7: 1.024 | F7: 12 | G7: =C7*D7*F7 -> 2760903.7 | H7: =G7*2.45% -> 67642.141 | I7: =G7*16.93% -> 467421 | J7: =G7*1.5% -> 41413.555 | K7: =G6*8.5% -> 229176.58 | L7: =K7*2.45% -> 5614.8261 | M7: =K7*16.93% -> 38799.594 | N7: =K7*1.5% -> 3437.6486 | O7: =SUM(G7:N7) -> 3614409 | P7: =P6*E7 -> 49379.205 | R7: =661*$E6*$E7*$C7 -> 11089.74 | S7: =S5*$E7*$E6 -> 10066.33 | T7: =SUM(P7:S7) -> 70535.275 | U7: =O7+T7 -> 3684944.3 | X7: =G7+K7 -> 2990080.3 | Y7: =X7*13.71% -> 409940.01 | Z7: =F7*250*C7 -> 48000 | AA7: =X7-Y7-Z7 -> 2532140.3 | AB7: =AA7/C7 -> 158258.77 | AC7: =IF(AB7<120000,((AB7*0.12)-3600),((10800+((AB7-120000)*0.32)))) -> 23042.805 | AD7: =AC7*C7 -> 368684.89 | AE7: =I7+M7+Y7 -> 916160.6 | AF7: =(X7-Y7)*0.09 -> 232212.62 | AG7: =H7+L7 -> 73256.967 | AJ7: 0 | AK7: wzrost kosztów (CPI) | AL7: 0 | AM7: 1.024 | AN7: 1.024 | AO7: 1.022 | AP7: 1.025 | AQ7: 1.025 | AR7: 1.025 | AS7: 1.025 | AT7: 1.025 | AU7: 1.025 | AV7: 1.025 | AW7: 0 | AZ7: 0 | BA7: CPI | BB7: 0 | BC7: 1.024 | BD7: 1.024 | BE7: 1.022 | BF7: 1.025 | BG7: 1.025 | BH7: 1.025 | BI7: 1.025 | BJ7: 1.025 | BK7: 1.025 | BL7: 1.025 | BM7: 0 | BP7: 0 | BQ7: wzrost kosztów (CPI) | BR7: 0 | BS7: 1.024 | BT7: 1.024 | BU7: 1.022 | BV7: 1.025 | BW7: 1.025 | BX7: 1.025 | BY7: 1.025 | BZ7: 1.025 | CA7: 1.025 | CB7: 1.025 | CC7: 0
A8: 2030 | B8: 3 | C8: 16 | D8: =D7*E8 -> 14696.06 | E8: 1.022 | F8: 12 | G8: =C8*D8*F8 -> 2821643.6 | H8: =G8*2.45% -> 69130.268 | I8: =G8*16.93% -> 477704.26 | J8: =G8*1.5% -> 42324.654 | K8: =G7*8.5% -> 234676.81 | L8: =K8*2.45% -> 5749.5819 | M8: =K8*16.93% -> 39730.785 | N8: =K8*1.5% -> 3520.1522 | O8: =SUM(G8:N8) -> 3694480.1 | P8: =P7*E8 -> 50465.548 | T8: =SUM(P8:S8) -> 50465.548 | U8: =O8+T8 -> 3744945.6 | X8: =G8+K8 -> 3056320.4 | Y8: =X8*13.71% -> 419021.53 | Z8: =F8*250*C8 -> 48000 | AA8: =X8-Y8-Z8 -> 2589298.9 | AB8: =AA8/C8 -> 161831.18 | AC8: =IF(AB8<120000,((AB8*0.12)-3600),((10800+((AB8-120000)*0.32)))) -> 24185.977 | AD8: =AC8*C8 -> 386975.64 | AE8: =I8+M8+Y8 -> 936456.57 | AF8: =(X8-Y8)*0.09 -> 237356.9 | AG8: =H8+L8 -> 74879.85 | AJ8: 0 | AK8: liczba miesięcy | AL8: 12 | AM8: 12 | AN8: 12 | AO8: 12 | AP8: 12 | AQ8: 12 | AR8: 12 | AS8: 12 | AT8: 12 | AU8: 12 | AV8: 12 | AW8: 0 | AZ8: 0 | BA8: liczba miesięcy | BB8: 12 | BC8: 12 | BD8: 12 | BE8: 12 | BF8: 12 | BG8: 12 | BH8: 12 | BI8: 12 | BJ8: 12 | BK8: 12 | BL8: 12 | BM8: 0 | BP8: 0 | BQ8: liczba miesięcy | BR8: 12 | BS8: 12 | BT8: 12 | BU8: 12 | BV8: 12 | BW8: 12 | BX8: 12 | BY8: 12 | BZ8: 12 | CA8: 12 | CB8: 12 | CC8: 0
A9: 2031 | B9: 4 | C9: 16 | D9: =D8*E9 -> 15063.462 | E9: 1.025 | F9: 12 | G9: =C9*D9*F9 -> 2892184.7 | H9: =G9*2.45% -> 70858.524 | I9: =G9*16.93% -> 489646.86 | J9: =G9*1.5% -> 43382.77 | K9: =G8*8.5% -> 239839.7 | L9: =K9*2.45% -> 5876.0727 | M9: =K9*16.93% -> 40604.862 | N9: =K9*1.5% -> 3597.5956 | O9: =SUM(G9:N9) -> 3785991.1 | P9: =P8*E9 -> 51727.187 | R9: =R7*$E9*$E8 -> 11617.057 | S9: =S7*$E9*$E8 -> 10544.984 | T9: =SUM(P9:S9) -> 73889.227 | U9: =O9+T9 -> 3859880.3 | X9: =G9+K9 -> 3132024.4 | Y9: =X9*13.71% -> 429400.54 | Z9: =F9*250*C9 -> 48000 | AA9: =X9-Y9-Z9 -> 2654623.8 | AB9: =AA9/C9 -> 165913.99 | AC9: =IF(AB9<120000,((AB9*0.12)-3600),((10800+((AB9-120000)*0.32)))) -> 25492.477 | AD9: =AC9*C9 -> 407879.63 | AE9: =I9+M9+Y9 -> 959652.27 | AF9: =(X9-Y9)*0.09 -> 243236.14 | AG9: =H9+L9 -> 76734.597 | AJ9: 0 | AK9: wynagrodzenie | AL9: 2633002.9 | AM9: 2696195 | AN9: 2760903.7 | AO9: 2821643.6 | AP9: 2892184.7 | AQ9: 2964489.3 | AR9: 3038601.5 | AS9: 3114566.6 | AT9: 3192430.7 | AU9: 3272241.5 | AV9: 3354047.5 | AW9: 32740307 | AZ9: 0 | BA9: wynagrodzenie | BB9: 164562.68 | BC9: 168512.19 | BD9: 172556.48 | BE9: 176352.72 | BF9: 180761.54 | BG9: 185280.58 | BH9: 189912.59 | BI9: 194660.41 | BJ9: 199526.92 | BK9: 204515.09 | BL9: 209627.97 | BM9: 2046269.2 | BP9: 0 | BQ9: wynagrodzenie | BR9: 300000 | BS9: 307200 | BT9: 314572.8 | BU9: 321493.4 | BV9: 329530.74 | BW9: 337769.01 | BX9: 346213.23 | BY9: 354868.56 | BZ9: 363740.27 | CA9: 372833.78 | CB9: 382154.63 | CC9: 3730376.4
A10: 2032 | B10: 5 | C10: 16 | D10: =D9*E10 -> 15440.048 | E10: 1.025 | F10: 12 | G10: =C10*D10*F10 -> 2964489.3 | H10: =G10*2.45% -> 72629.987 | I10: =G10*16.93% -> 501888.04 | J10: =G10*1.5% -> 44467.339 | K10: =G9*8.5% -> 245835.7 | L10: =K10*2.45% -> 6022.9746 | M10: =K10*16.93% -> 41619.983 | N10: =K10*1.5% -> 3687.5354 | O10: =SUM(G10:N10) -> 3880640.8 | P10: =P9*E10 -> 53020.366 | T10: =SUM(P10:S10) -> 53020.366 | U10: =O10+T10 -> 3933661.2 | X10: =G10+K10 -> 3210325 | Y10: =X10*13.71% -> 440135.55 | Z10: =F10*250*C10 -> 48000 | AA10: =X10-Y10-Z10 -> 2722189.4 | AB10: =AA10/C10 -> 170136.84 | AC10: =IF(AB10<120000,((AB10*0.12)-3600),((10800+((AB10-120000)*0.32)))) -> 26843.788 | AD10: =AC10*C10 -> 429500.62 | AE10: =I10+M10+Y10 -> 983643.57 | AF10: =(X10-Y10)*0.09 -> 249317.05 | AG10: =H10+L10 -> 78652.962 | AJ10: 0 | AK10: pochodne Fundusz Pracy i Fundusz Solidarnościowy | AL10: 64508.572 | AM10: 66056.778 | AN10: 67642.141 | AO10: 69130.268 | AP10: 70858.524 | AQ10: 72629.987 | AR10: 74445.737 | AS10: 76306.881 | AT10: 78214.553 | AU10: 80169.916 | AV10: 82174.164 | AW10: 802137.52 | AZ10: 0 | BA10: pochodne Fundusz Pracy | BB10: 4031.7858 | BC10: 4128.5486 | BD10: 4227.6338 | BE10: 4320.6417 | BF10: 4428.6578 | BG10: 4539.3742 | BH10: 4652.8586 | BI10: 4769.18 | BJ10: 4888.4095 | BK10: 5010.6198 | BL10: 5135.8853 | BM10: 50133.595 | BP10: 0 | BQ10: pochodne Fundusz Pracy i Fundusz Solidarnościowy | BR10: 7350 | BS10: 7526.4 | BT10: 7707.0336 | BU10: 7876.5883 | BV10: 8073.503 | BW10: 8275.3406 | BX10: 8482.2241 | BY10: 8694.2797 | BZ10: 8911.6367 | CA10: 9134.4277 | CB10: 9362.7883 | CC10: 91394.222
A11: 2033 | B11: 6 | C11: 16 | D11: =D10*E11 -> 15826.05 | E11: 1.025 | F11: 12 | G11: =C11*D11*F11 -> 3038601.5 | H11: =G11*2.45% -> 74445.737 | I11: =G11*16.93% -> 514435.24 | J11: =G11*1.5% -> 45579.023 | K11: =G10*8.5% -> 251981.59 | L11: =K11*2.45% -> 6173.5489 | M11: =K11*16.93% -> 42660.483 | N11: =K11*1.5% -> 3779.7238 | O11: =SUM(G11:N11) -> 3977656.9 | P11: =P10*E11 -> 54345.875 | R11: =R9*$E11*$E10 -> 12205.17 | S11: =S9*$E11*$E10 -> 11078.823 | T11: =SUM(P11:S11) -> 77629.869 | U11: =O11+T11 -> 4055286.7 | X11: =G11+K11 -> 3290583.1 | Y11: =X11*13.71% -> 451138.94 | Z11: =F11*250*C11 -> 48000 | AA11: =X11-Y11-Z11 -> 2791444.2 | AB11: =AA11/C11 -> 174465.26 | AC11: =IF(AB11<120000,((AB11*0.12)-3600),((10800+((AB11-120000)*0.32)))) -> 28228.883 | AD11: =AC11*C11 -> 451662.13 | AE11: =I11+M11+Y11 -> 1008234.7 | AF11: =(X11-Y11)*0.09 -> 255549.97 | AG11: =H11+L11 -> 80619.286 | AJ11: 0 | AK11: pochodne ZUS | AL11: 445767.4 | AM11: 456465.82 | AN11: 467421 | AO11: 477704.26 | AP11: 489646.86 | AQ11: 501888.04 | AR11: 514435.24 | AS11: 527296.12 | AT11: 540478.52 | AU11: 553990.48 | AV11: 567840.25 | AW11: 5628058.8 | AZ11: 0 | BA11: pochodne ZUS | BB11: 27860.462 | BC11: 28529.113 | BD11: 29213.812 | BE11: 29856.516 | BF11: 30602.929 | BG11: 31368.002 | BH11: 32152.202 | BI11: 32956.007 | BJ11: 33779.908 | BK11: 34624.405 | BL11: 35490.015 | BM11: 351753.67 | BP11: 0 | BQ11: pochodne ZUS | BR11: 50790 | BS11: 52008.96 | BT11: 53257.175 | BU11: 54428.833 | BV11: 55789.554 | BW11: 57184.293 | BX11: 58613.9 | BY11: 60079.247 | BZ11: 61581.229 | CA11: 63120.759 | CB11: 64698.778 | CC11: 641251.71
A12: 2034 | B12: 7 | C12: 16 | D12: =D11*E12 -> 16221.701 | E12: 1.025 | F12: 12 | G12: =C12*D12*F12 -> 3114566.6 | H12: =G12*2.45% -> 76306.881 | I12: =G12*16.93% -> 527296.12 | J12: =G12*1.5% -> 46718.498 | K12: =G11*8.5% -> 258281.13 | L12: =K12*2.45% -> 6327.8877 | M12: =K12*16.93% -> 43726.995 | N12: =K12*1.5% -> 3874.2169 | O12: =SUM(G12:N12) -> 4077098.3 | P12: =P11*E12 -> 55704.522 | T12: =SUM(P12:S12) -> 55704.522 | U12: =O12+T12 -> 4132802.8 | X12: =G12+K12 -> 3372847.7 | Y12: =X12*13.71% -> 462417.42 | Z12: =F12*250*C12 -> 48000 | AA12: =X12-Y12-Z12 -> 2862430.3 | AB12: =AA12/C12 -> 178901.89 | AC12: =IF(AB12<120000,((AB12*0.12)-3600),((10800+((AB12-120000)*0.32)))) -> 29648.605 | AD12: =AC12*C12 -> 474377.68 | AE12: =I12+M12+Y12 -> 1033440.5 | AF12: =(X12-Y12)*0.09 -> 261938.72 | AG12: =H12+L12 -> 82634.768 | AJ12: 0 | AK12: PPK | AL12: 39495.044 | AM12: 40442.925 | AN12: 41413.555 | AO12: 42324.654 | AP12: 43382.77 | AQ12: 44467.339 | AR12: 45579.023 | AS12: 46718.498 | AT12: 47886.461 | AU12: 49083.622 | AV12: 50310.713 | AW12: 491104.6 | AZ12: 0 | BA12: PPK | BB12: 2468.4403 | BC12: 2527.6828 | BD12: 2588.3472 | BE12: 2645.2909 | BF12: 2711.4231 | BG12: 2779.2087 | BH12: 2848.6889 | BI12: 2919.9061 | BJ12: 2992.9038 | BK12: 3067.7264 | BL12: 3144.4196 | BM12: 30694.038 | BP12: 0 | BQ12: PPK | BR12: 4500 | BS12: 4608 | BT12: 4718.592 | BU12: 4822.401 | BV12: 4942.961 | BW12: 5066.5351 | BX12: 5193.1985 | BY12: 5323.0284 | BZ12: 5456.1041 | CA12: 5592.5067 | CB12: 5732.3194 | CC12: 55955.646
A13: 2035 | B13: 8 | C13: 16 | D13: =D12*E13 -> 16627.243 | E13: 1.025 | F13: 12 | G13: =C13*D13*F13 -> 3192430.7 | H13: =G13*2.45% -> 78214.553 | I13: =G13*16.93% -> 540478.52 | J13: =G13*1.5% -> 47886.461 | K13: =G12*8.5% -> 264738.16 | L13: =K13*2.45% -> 6486.0848 | M13: =K13*16.93% -> 44820.17 | N13: =K13*1.5% -> 3971.0724 | O13: =SUM(G13:N13) -> 4179025.7 | P13: =P12*E13 -> 57097.135 | R13: =R11*$E13*$E12 -> 12823.057 | S13: =S11*$E13*$E12 -> 11639.689 | T13: =SUM(P13:S13) -> 81559.881 | U13: =O13+T13 -> 4260585.6 | X13: =G13+K13 -> 3457168.9 | Y13: =X13*13.71% -> 473977.85 | Z13: =F13*250*C13 -> 48000 | AA13: =X13-Y13-Z13 -> 2935191 | AB13: =AA13/C13 -> 183449.44 | AC13: =IF(AB13<120000,((AB13*0.12)-3600),((10800+((AB13-120000)*0.32)))) -> 31103.82 | AD13: =AC13*C13 -> 497661.13 | AE13: =I13+M13+Y13 -> 1059276.5 | AF13: =(X13-Y13)*0.09 -> 268487.19 | AG13: =H13+L13 -> 84700.637 | AJ13: 0 | AK13: DWR | AL13: 0 | AM13: 223805.25 | AN13: 229176.58 | AO13: 234676.81 | AP13: 239839.7 | AQ13: 245835.7 | AR13: 251981.59 | AS13: 258281.13 | AT13: 264738.16 | AU13: 271356.61 | AV13: 278140.53 | AW13: 2497832.1 | AZ13: 0 | BA13: DWR | BB13: 0 | BC13: 13987.828 | BD13: 14323.536 | BE13: 14667.301 | BF13: 14989.981 | BG13: 15364.731 | BH13: 15748.849 | BI13: 16142.571 | BJ13: 16546.135 | BK13: 16959.788 | BL13: 17383.783 | BM13: 156114.5 | BP13: 0 | BQ13: DWR | BR13: 0 | BS13: 25500 | BT13: 26112 | BU13: 26738.688 | BV13: 27326.939 | BW13: 28010.113 | BX13: 28710.365 | BY13: 29428.125 | BZ13: 30163.828 | CA13: 30917.923 | CB13: 31690.871 | CC13: 284598.85
A14: 2036 | B14: 9 | C14: 16 | D14: =D13*E14 -> 17042.924 | E14: 1.025 | F14: 12 | G14: =C14*D14*F14 -> 3272241.5 | H14: =G14*2.45% -> 80169.916 | I14: =G14*16.93% -> 553990.48 | J14: =G14*1.5% -> 49083.622 | K14: =G13*8.5% -> 271356.61 | L14: =K14*2.45% -> 6648.237 | M14: =K14*16.93% -> 45940.674 | N14: =K14*1.5% -> 4070.3492 | O14: =SUM(G14:N14) -> 4283501.4 | P14: =P13*E14 -> 58524.564 | T14: =SUM(P14:S14) -> 58524.564 | U14: =O14+T14 -> 4342025.9 | X14: =G14+K14 -> 3543598.1 | Y14: =X14*13.71% -> 485827.3 | Z14: =F14*250*C14 -> 48000 | AA14: =X14-Y14-Z14 -> 3009770.8 | AB14: =AA14/C14 -> 188110.67 | AC14: =IF(AB14<120000,((AB14*0.12)-3600),((10800+((AB14-120000)*0.32)))) -> 32595.416 | AD14: =AC14*C14 -> 521526.65 | AE14: =I14+M14+Y14 -> 1085758.5 | AF14: =(X14-Y14)*0.09 -> 275199.37 | AG14: =H14+L14 -> 86818.153 | AJ14: 0 | AK14: pochodne Fundusz Pracy i Fundusz Solidarnościowy | AL14: 0 | AM14: 5483.2286 | AN14: 5614.8261 | AO14: 5749.5819 | AP14: 5876.0727 | AQ14: 6022.9746 | AR14: 6173.5489 | AS14: 6327.8877 | AT14: 6486.0848 | AU14: 6648.237 | AV14: 6814.4429 | AW14: 61196.885 | AZ14: 0 | BA14: pochodne Fundusz Pracy | BB14: 0 | BC14: 342.70179 | BD14: 350.92663 | BE14: 359.34887 | BF14: 367.25455 | BG14: 376.43591 | BH14: 385.84681 | BI14: 395.49298 | BJ14: 405.3803 | BK14: 415.51481 | BL14: 425.90268 | BM14: 3824.8053 | BP14: 0 | BQ14: pochodne Fundusz Pracy i Fundusz Solidarnościowy | BR14: 0 | BS14: 624.75 | BT14: 639.744 | BU14: 655.09786 | BV14: 669.51001 | BW14: 686.24776 | BX14: 703.40395 | BY14: 720.98905 | BZ14: 739.01378 | CA14: 757.48912 | CB14: 776.42635 | CC14: 6972.6719
A15: 2037 | B15: 10 | C15: 16 | D15: =D14*E15 -> 17468.998 | E15: 1.025 | F15: 12 | G15: =C15*D15*F15 -> 3354047.5 | H15: =G15*2.45% -> 82174.164 | I15: =G15*16.93% -> 567840.25 | J15: =G15*1.5% -> 50310.713 | K15: =G14*8.5% -> 278140.53 | L15: =K15*2.45% -> 6814.4429 | M15: =K15*16.93% -> 47089.191 | N15: =K15*1.5% -> 4172.1079 | O15: =SUM(G15:N15) -> 4390588.9 | P15: =P14*E15 -> 59987.678 | R15: =R13*$E15*$E14 -> 13472.224 | S15: =S13*$E15*$E14 -> 12228.948 | T15: =SUM(P15:S15) -> 85688.85 | U15: =O15+T15 -> 4476277.8 | X15: =G15+K15 -> 3632188 | Y15: =X15*13.71% -> 497972.98 | Z15: =F15*250*C15 -> 48000 | AA15: =X15-Y15-Z15 -> 3086215.1 | AB15: =AA15/C15 -> 192888.44 | AC15: =IF(AB15<120000,((AB15*0.12)-3600),((10800+((AB15-120000)*0.32)))) -> 34124.301 | AD15: =AC15*C15 -> 545988.82 | AE15: =I15+M15+Y15 -> 1112902.4 | AF15: =(X15-Y15)*0.09 -> 282079.36 | AG15: =H15+L15 -> 88988.607 | AJ15: 0 | AK15: pochodne ZUS | AL15: 0 | AM15: 37890.229 | AN15: 38799.594 | AO15: 39730.785 | AP15: 40604.862 | AQ15: 41619.983 | AR15: 42660.483 | AS15: 43726.995 | AT15: 44820.17 | AU15: 45940.674 | AV15: 47089.191 | AW15: 429377.33 | AZ15: 0 | BA15: pochodne ZUS | BB15: 0 | BC15: 2368.1393 | BD15: 2424.9746 | BE15: 2483.174 | BF15: 2537.8039 | BG15: 2601.249 | BH15: 2666.2802 | BI15: 2732.9372 | BJ15: 2801.2606 | BK15: 2871.2921 | BL15: 2943.0744 | BM15: 26836.083 | BP15: 0 | BQ15: pochodne ZUS | BR15: 0 | BS15: 4317.15 | BT15: 4420.7616 | BU15: 4526.8599 | BV15: 4626.4508 | BW15: 4742.1121 | BX15: 4860.6649 | BY15: 4982.1815 | BZ15: 5106.736 | CA15: 5234.4044 | CB15: 5365.2645 | CC15: 48922.543
A16: OGÓŁEM | G16: =SUM(G5:G15) -> 32740307 | H16: =G16*2.45% -> 802137.52 | I16: =G16*17.19% -> 5628058.8 | J16: =G16*1.5% -> 491104.6 | K16: =SUM(K5:K15) -> 2497832.1 | L16: =K16*2.45% -> 61196.885 | M16: =K16*17.19% -> 429377.33 | N16: =K16*1.5% -> 37467.481 | O16: =SUM(G16:N16) -> 42687482 | P16: =SUM(P5:P15) -> 585565.64 | Q16: =SUM(Q5:Q15) -> 8800 | R16: =SUM(R5:R15) -> 61207.249 | S16: =SUM(S5:S15) -> 65158.773 | T16: =P16+Q16+R16+S16 -> 720731.66 | U16: =O16+T16 -> 43408213 | X16: =SUM(X5:X15) -> 35238139 | Y16: =SUM(Y5:Y15) -> 4831148.9 | AD16: =SUM(AD5:AD15) -> 4703676.9 | AE16: =SUM(AE5:AE15) -> 10796966 | AF16: =SUM(AF5:AF15) -> 2736629.1 | AG16: =SUM(AG5:AG15) -> 863334.41 | AJ16: 0 | AK16: PPK | AL16: 0 | AM16: 3357.0788 | AN16: 3437.6486 | AO16: 3520.1522 | AP16: 3597.5956 | AQ16: 3687.5354 | AR16: 3779.7238 | AS16: 3874.2169 | AT16: 3971.0724 | AU16: 4070.3492 | AV16: 4172.1079 | AW16: 37467.481 | AZ16: 0 | BA16: PPK | BB16: 0 | BC16: 209.81742 | BD16: 214.85304 | BE16: 220.00951 | BF16: 224.84972 | BG16: 230.47097 | BH16: 236.23274 | BI16: 242.13856 | BJ16: 248.19202 | BK16: 254.39682 | BL16: 260.75674 | BM16: 2341.7175 | BP16: 0 | BQ16: PPK | BR16: 0 | BS16: 382.5 | BT16: 391.68 | BU16: 401.08032 | BV16: 409.90409 | BW16: 420.15169 | BX16: 430.65548 | BY16: 441.42187 | BZ16: 452.45742 | CA16: 463.76885 | CB16: 475.36307 | CC16: 4268.9828
AJ17: 0 | AK17: razem wynagrodzenia | AL17: 3182774 | AM17: 3529696.3 | AN17: 3614409 | AO17: 3694480.1 | AP17: 3785991.1 | AQ17: 3880640.8 | AR17: 3977656.9 | AS17: 4077098.3 | AT17: 4179025.7 | AU17: 4283501.4 | AV17: 4390588.9 | AW17: 42687482 | AZ17: 0 | BA17: razem wynagrodzenia | BB17: 198923.37 | BC17: 220606.02 | BD17: 225900.56 | BE17: 230905.01 | BF17: 236624.44 | BG17: 242540.05 | BH17: 248603.55 | BI17: 254818.64 | BJ17: 261189.11 | BK17: 267718.84 | BL17: 274411.81 | BM17: 2667967.6 | BP17: 0 | BQ17: razem wynagrodzenia | BR17: 362640 | BS17: 402167.76 | BT17: 411819.79 | BU17: 420942.95 | BV17: 431369.56 | BW17: 442153.8 | BX17: 453207.64 | BY17: 464537.83 | BZ17: 476151.28 | CA17: 488055.06 | CB17: 500256.44 | CC17: 4863741
AJ18: dodtakowe wydatki związane z zatrudnieniem | AK18: ZFŚS | AL18: 47091.68 | AM18: 48221.88 | AN18: 49379.205 | AO18: 50465.548 | AP18: 51727.187 | AQ18: 53020.366 | AR18: 54345.875 | AS18: 55704.522 | AT18: 57097.135 | AU18: 58524.564 | AV18: 59987.678 | AW18: 585565.64 | AZ18: dodtakowe wydatki związane z zatrudnieniem | BA18: ZFŚS | BB18: 2943.23 | BC18: 3013.8675 | BD18: 3086.2003 | BE18: 3154.0967 | BF18: 3232.9492 | BG18: 3313.7729 | BH18: 3396.6172 | BI18: 3481.5326 | BJ18: 3568.571 | BK18: 3657.7852 | BL18: 3749.2299 | BM18: 36597.853 | BP18: dodtakowe wydatki związane z zatrudnieniem | BQ18: ZFŚS | BR18: 2943.23 | BS18: 3013.8675 | BT18: 3086.2003 | BU18: 3154.0967 | BV18: 3232.9492 | BW18: 3313.7729 | BX18: 3396.6172 | BY18: 3481.5326 | BZ18: 3568.571 | CA18: 3657.7852 | CB18: 3749.2299 | CC18: 36597.853
AJ19: 0 | AK19: medycyna pracy (badania wstępne) | AL19: 8800 | AM19: 0 | AN19: 0 | AO19: 0 | AP19: 0 | AQ19: 0 | AR19: 0 | AS19: 0 | AT19: 0 | AU19: 0 | AV19: 0 | AW19: 8800 | AZ19: 0 | BA19: medycyna pracy (badania wstępne) | BB19: 550 | BC19: 0 | BD19: 0 | BE19: 0 | BF19: 0 | BG19: 0 | BH19: 0 | BI19: 0 | BJ19: 0 | BK19: 0 | BL19: 0 | BM19: 550 | BP19: 0 | BQ19: medycyna pracy (badania wstępne) | BR19: 550 | BS19: 0 | BT19: 0 | BU19: 0 | BV19: 0 | BW19: 0 | BX19: 0 | BY19: 0 | BZ19: 0 | CA19: 0 | CB19: 0 | CC19: 550
AJ20: 0 | AK20: medycyna pracy (badania okresowe) | AL20: 0 | AM20: 0 | AN20: 11089.74 | AO20: 0 | AP20: 11617.057 | AQ20: 0 | AR20: 12205.17 | AS20: 0 | AT20: 12823.057 | AU20: 0 | AV20: 13472.224 | AW20: 61207.249 | AZ20: 0 | BA20: medycyna pracy (badania okresowe) | BB20: 0 | BC20: 0 | BD20: 693.10874 | BE20: 0 | BF20: 726.06606 | BG20: 0 | BH20: 762.82315 | BI20: 0 | BJ20: 801.44107 | BK20: 0 | BL20: 842.01403 | BM20: 3825.453 | BP20: 0 | BQ20: medycyna pracy (badania okresowe) | BR20: 0 | BS20: 0 | BT20: 693.10874 | BU20: 0 | BV20: 726.06606 | BW20: 0 | BX20: 762.82315 | BY20: 0 | BZ20: 801.44107 | CA20: 0 | CB20: 842.01403 | CC20: 3825.453
A21: OSR - CPC | D21: wynagrodzenia oraz dotatkowe wynagrodzenie roczne wraz pochodnymi | P21: dodtakowe wydatki związane z zatrudnieniem | AD21: oddziaływanie | AJ21: 0 | AK21: BHP (dofinansowanie okularów do pracy przy komputerze) | AL21: 9600 | AM21: 0 | AN21: 10066.33 | AO21: 0 | AP21: 10544.984 | AQ21: 0 | AR21: 11078.823 | AS21: 0 | AT21: 11639.689 | AU21: 0 | AV21: 12228.948 | AW21: 65158.773 | AZ21: 0 | BA21: BHP (dofinansowanie okularów do pracy przy komputerze) | BB21: 600 | BC21: 0 | BD21: 629.1456 | BE21: 0 | BF21: 659.06147 | BG21: 0 | BH21: 692.42646 | BI21: 0 | BJ21: 727.48055 | BK21: 0 | BL21: 764.30925 | BM21: 4072.4233 | BP21: 0 | BQ21: BHP (dofinansowanie okularów do pracy przy komputerze) | BR21: 600 | BS21: 0 | BT21: 629.1456 | BU21: 0 | BV21: 659.06147 | BW21: 0 | BX21: 692.42646 | BY21: 0 | BZ21: 727.48055 | CA21: 0 | CB21: 764.30925 | CC21: 4072.4233
C22: liczba etatów | D22: średnia płaca w UOKiK dla korpusu służby cywilnej z uwzględnieniem stopy wzrostu - pracownik obsługi | E22: CPI | F22: liczba miesięcy | G22: wynagrodzenie | H22: pochodne Fundusz Pracy | I22: pochodne ZUS | J22: PPK | K22: DWR | L22: pochodne Fundusz Pracy | M22: pochodne ZUS | N22: PPK | O22: razem wynagrodzenia | P22: ZFŚS | Q22: medycyna pracy (badania wstępne) | R22: medycyna pracy (badania okresowe) | S22: BHP (dofinansowanie okularów do pracy przy komputerze) | T22: razem koszty dodatkowe | U22: razem | X22: wynagrodzenie brutto razem z DWR | Y22: składki ZUS pracownika | Z22: koszty uzyskania przychodu | AA22: dochód do opodatkowania | AB22: dochód na 1 etat | AC22: szacunkowe zaliczki na podatek dochodowy 1 etat (oddziaływanie na US) | AD22: szacunkowe zaliczki na podatek dochodowy (oddziaływanie na US) | AE22: szacunkowe składki ZUS (oddziaływanie na ZUS) | AF22: szacunkowa składka zdrowotna (oddziaływanie na NFZ) | AG22: pochodne Fundusz Pracy i Fundusz Solidarnościowy
A23: 2027 | B23: rok "0" | C23: 1 | D23: =13379.08*102.5% -> 13713.557 | E23: 0 | F23: 12 | G23: =C23*D23*F23 -> 164562.68 | H23: =G23*2.45% -> 4031.7858 | I23: =G23*16.93% -> 27860.462 | J23: =G23*1.5% -> 2468.4403 | K23: 0 | L23: =K23*2.45% -> 0 | M23: =K23*17.19% -> 0 | N23: =K23*1.5% -> 0 | O23: =SUM(G23:N23) -> 198923.37 | P23: =2943.23*C23 -> 2943.23 | Q23: =C23*550 -> 550 | S23: =C23*600 -> 600 | T23: =SUM(P23:S23) -> 4093.23 | U23: =(O23+T23) -> 203016.6 | X23: =G23+K23 -> 164562.68 | Y23: =X23*13.71% -> 22561.544 | Z23: =F23*250*C23 -> 3000 | AA23: =X23-Y23-Z23 -> 139001.14 | AB23: =AA23/C23 -> 139001.14 | AC23: =IF(AB23<120000,((AB23*0.12)-3600),((10800+((AB23-120000)*0.32)))) -> 16880.365 | AD23: =AC23*C23 -> 16880.365 | AE23: =I23+M23+Y23 -> 50422.006 | AF23: =(X23-Y23)*0.09 -> 12780.103 | AG23: =H23+L23 -> 4031.7858
A24: 2028 | B24: 1 | C24: 1 | D24: =D23*E24 -> 14042.682 | E24: 1.024 | F24: 12 | G24: =C24*D24*F24 -> 168512.19 | H24: =G24*2.45% -> 4128.5486 | I24: =G24*16.93% -> 28529.113 | J24: =G24*1.5% -> 2527.6828 | K24: =G23*8.5% -> 13987.828 | L24: =K24*2.45% -> 342.70179 | M24: =K24*16.93% -> 2368.1393 | N24: =K24*1.5% -> 209.81742 | O24: =SUM(G24:N24) -> 220606.02 | P24: =P23*E24 -> 3013.8675 | T24: =SUM(P24:S24) -> 3013.8675 | U24: =O24+T24 -> 223619.89 | X24: =G24+K24 -> 182500.02 | Y24: =X24*13.71% -> 25020.752 | Z24: =F24*250*C24 -> 3000 | AA24: =X24-Y24-Z24 -> 154479.26 | AB24: =AA24/C24 -> 154479.26 | AC24: =IF(AB24<120000,((AB24*0.12)-3600),((10800+((AB24-120000)*0.32)))) -> 21833.365 | AD24: =AC24*C24 -> 21833.365 | AE24: =I24+M24+Y24 -> 55918.005 | AF24: =(X24-Y24)*0.09 -> 14173.134 | AG24: =H24+L24 -> 4471.2504
A25: 2029 | B25: 2 | C25: 1 | D25: =D24*E25 -> 14379.707 | E25: 1.024 | F25: 12 | G25: =C25*D25*F25 -> 172556.48 | H25: =G25*2.45% -> 4227.6338 | I25: =G25*16.93% -> 29213.812 | J25: =G25*1.5% -> 2588.3472 | K25: =G24*8.5% -> 14323.536 | L25: =K25*2.45% -> 350.92663 | M25: =K25*16.93% -> 2424.9746 | N25: =K25*1.5% -> 214.85304 | O25: =SUM(G25:N25) -> 225900.56 | P25: =P24*E25 -> 3086.2003 | R25: =661*$E24*$E25*$C25 -> 693.10874 | S25: =S23*$E25*$E24 -> 629.1456 | T25: =SUM(P25:S25) -> 4408.4547 | U25: =O25+T25 -> 230309.02 | X25: =G25+K25 -> 186880.02 | Y25: =X25*13.71% -> 25621.25 | Z25: =F25*250*C25 -> 3000 | AA25: =X25-Y25-Z25 -> 158258.77 | AB25: =AA25/C25 -> 158258.77 | AC25: =IF(AB25<120000,((AB25*0.12)-3600),((10800+((AB25-120000)*0.32)))) -> 23042.805 | AD25: =AC25*C25 -> 23042.805 | AE25: =I25+M25+Y25 -> 57260.037 | AF25: =(X25-Y25)*0.09 -> 14513.289 | AG25: =H25+L25 -> 4578.5604
A26: 2030 | B26: 3 | C26: 1 | D26: =D25*E26 -> 14696.06 | E26: 1.022 | F26: 12 | G26: =C26*D26*F26 -> 176352.72 | H26: =G26*2.45% -> 4320.6417 | I26: =G26*16.93% -> 29856.516 | J26: =G26*1.5% -> 2645.2909 | K26: =G25*8.5% -> 14667.301 | L26: =K26*2.45% -> 359.34887 | M26: =K26*16.93% -> 2483.174 | N26: =K26*1.5% -> 220.00951 | O26: =SUM(G26:N26) -> 230905.01 | P26: =P25*E26 -> 3154.0967 | T26: =SUM(P26:S26) -> 3154.0967 | U26: =O26+T26 -> 234059.1 | X26: =G26+K26 -> 191020.02 | Y26: =X26*13.71% -> 26188.845 | Z26: =F26*250*C26 -> 3000 | AA26: =X26-Y26-Z26 -> 161831.18 | AB26: =AA26/C26 -> 161831.18 | AC26: =IF(AB26<120000,((AB26*0.12)-3600),((10800+((AB26-120000)*0.32)))) -> 24185.977 | AD26: =AC26*C26 -> 24185.977 | AE26: =I26+M26+Y26 -> 58528.535 | AF26: =(X26-Y26)*0.09 -> 14834.806 | AG26: =H26+L26 -> 4679.9906
A27: 2031 | B27: 4 | C27: 1 | D27: =D26*E27 -> 15063.462 | E27: 1.025 | F27: 12 | G27: =C27*D27*F27 -> 180761.54 | H27: =G27*2.45% -> 4428.6578 | I27: =G27*16.93% -> 30602.929 | J27: =G27*1.5% -> 2711.4231 | K27: =G26*8.5% -> 14989.981 | L27: =K27*2.45% -> 367.25455 | M27: =K27*16.93% -> 2537.8039 | N27: =K27*1.5% -> 224.84972 | O27: =SUM(G27:N27) -> 236624.44 | P27: =P26*E27 -> 3232.9492 | R27: =R25*$E27*$E26 -> 726.06606 | S27: =S25*$E27*$E26 -> 659.06147 | T27: =SUM(P27:S27) -> 4618.0767 | U27: =O27+T27 -> 241242.52 | X27: =G27+K27 -> 195751.52 | Y27: =X27*13.71% -> 26837.534 | Z27: =F27*250*C27 -> 3000 | AA27: =X27-Y27-Z27 -> 165913.99 | AB27: =AA27/C27 -> 165913.99 | AC27: =IF(AB27<120000,((AB27*0.12)-3600),((10800+((AB27-120000)*0.32)))) -> 25492.477 | AD27: =AC27*C27 -> 25492.477 | AE27: =I27+M27+Y27 -> 59978.267 | AF27: =(X27-Y27)*0.09 -> 15202.259 | AG27: =H27+L27 -> 4795.9123
A28: 2032 | B28: 5 | C28: 1 | D28: =D27*E28 -> 15440.048 | E28: 1.025 | F28: 12 | G28: =C28*D28*F28 -> 185280.58 | H28: =G28*2.45% -> 4539.3742 | I28: =G28*16.93% -> 31368.002 | J28: =G28*1.5% -> 2779.2087 | K28: =G27*8.5% -> 15364.731 | L28: =K28*2.45% -> 376.43591 | M28: =K28*16.93% -> 2601.249 | N28: =K28*1.5% -> 230.47097 | O28: =SUM(G28:N28) -> 242540.05 | P28: =P27*E28 -> 3313.7729 | T28: =SUM(P28:S28) -> 3313.7729 | U28: =O28+T28 -> 245853.83 | X28: =G28+K28 -> 200645.31 | Y28: =X28*13.71% -> 27508.472 | Z28: =F28*250*C28 -> 3000 | AA28: =X28-Y28-Z28 -> 170136.84 | AB28: =AA28/C28 -> 170136.84 | AC28: =IF(AB28<120000,((AB28*0.12)-3600),((10800+((AB28-120000)*0.32)))) -> 26843.788 | AD28: =AC28*C28 -> 26843.788 | AE28: =I28+M28+Y28 -> 61477.723 | AF28: =(X28-Y28)*0.09 -> 15582.316 | AG28: =H28+L28 -> 4915.8101
A29: 2033 | B29: 6 | C29: 1 | D29: =D28*E29 -> 15826.05 | E29: 1.025 | F29: 12 | G29: =C29*D29*F29 -> 189912.59 | H29: =G29*2.45% -> 4652.8586 | I29: =G29*16.93% -> 32152.202 | J29: =G29*1.5% -> 2848.6889 | K29: =G28*8.5% -> 15748.849 | L29: =K29*2.45% -> 385.84681 | M29: =K29*16.93% -> 2666.2802 | N29: =K29*1.5% -> 236.23274 | O29: =SUM(G29:N29) -> 248603.55 | P29: =P28*E29 -> 3396.6172 | R29: =R27*$E29*$E28 -> 762.82315 | S29: =S27*$E29*$E28 -> 692.42646 | T29: =SUM(P29:S29) -> 4851.8668 | U29: =O29+T29 -> 253455.42 | X29: =G29+K29 -> 205661.44 | Y29: =X29*13.71% -> 28196.184 | Z29: =F29*250*C29 -> 3000 | AA29: =X29-Y29-Z29 -> 174465.26 | AB29: =AA29/C29 -> 174465.26 | AC29: =IF(AB29<120000,((AB29*0.12)-3600),((10800+((AB29-120000)*0.32)))) -> 28228.883 | AD29: =AC29*C29 -> 28228.883 | AE29: =I29+M29+Y29 -> 63014.666 | AF29: =(X29-Y29)*0.09 -> 15971.873 | AG29: =H29+L29 -> 5038.7054
A30: 2034 | B30: 7 | C30: 1 | D30: =D29*E30 -> 16221.701 | E30: 1.025 | F30: 12 | G30: =C30*D30*F30 -> 194660.41 | H30: =G30*2.45% -> 4769.18 | I30: =G30*16.93% -> 32956.007 | J30: =G30*1.5% -> 2919.9061 | K30: =G29*8.5% -> 16142.571 | L30: =K30*2.45% -> 395.49298 | M30: =K30*16.93% -> 2732.9372 | N30: =K30*1.5% -> 242.13856 | O30: =SUM(G30:N30) -> 254818.64 | P30: =P29*E30 -> 3481.5326 | T30: =SUM(P30:S30) -> 3481.5326 | U30: =O30+T30 -> 258300.17 | X30: =G30+K30 -> 210802.98 | Y30: =X30*13.71% -> 28901.089 | Z30: =F30*250*C30 -> 3000 | AA30: =X30-Y30-Z30 -> 178901.89 | AB30: =AA30/C30 -> 178901.89 | AC30: =IF(AB30<120000,((AB30*0.12)-3600),((10800+((AB30-120000)*0.32)))) -> 29648.605 | AD30: =AC30*C30 -> 29648.605 | AE30: =I30+M30+Y30 -> 64590.033 | AF30: =(X30-Y30)*0.09 -> 16371.17 | AG30: =H30+L30 -> 5164.673
A31: 2035 | B31: 8 | C31: 1 | D31: =D30*E31 -> 16627.243 | E31: 1.025 | F31: 12 | G31: =C31*D31*F31 -> 199526.92 | H31: =G31*2.45% -> 4888.4095 | I31: =G31*16.93% -> 33779.908 | J31: =G31*1.5% -> 2992.9038 | K31: =G30*8.5% -> 16546.135 | L31: =K31*2.45% -> 405.3803 | M31: =K31*16.93% -> 2801.2606 | N31: =K31*1.5% -> 248.19202 | O31: =SUM(G31:N31) -> 261189.11 | P31: =P30*E31 -> 3568.571 | R31: =R29*$E31*$E30 -> 801.44107 | S31: =S29*$E31*$E30 -> 727.48055 | T31: =SUM(P31:S31) -> 5097.4926 | U31: =O31+T31 -> 266286.6 | X31: =G31+K31 -> 216073.05 | Y31: =X31*13.71% -> 29623.616 | Z31: =F31*250*C31 -> 3000 | AA31: =X31-Y31-Z31 -> 183449.44 | AB31: =AA31/C31 -> 183449.44 | AC31: =IF(AB31<120000,((AB31*0.12)-3600),((10800+((AB31-120000)*0.32)))) -> 31103.82 | AD31: =AC31*C31 -> 31103.82 | AE31: =I31+M31+Y31 -> 66204.784 | AF31: =(X31-Y31)*0.09 -> 16780.449 | AG31: =H31+L31 -> 5293.7898
A32: 2036 | B32: 9 | C32: 1 | D32: =D31*E32 -> 17042.924 | E32: 1.025 | F32: 12 | G32: =C32*D32*F32 -> 204515.09 | H32: =G32*2.45% -> 5010.6198 | I32: =G32*16.93% -> 34624.405 | J32: =G32*1.5% -> 3067.7264 | K32: =G31*8.5% -> 16959.788 | L32: =K32*2.45% -> 415.51481 | M32: =K32*16.93% -> 2871.2921 | N32: =K32*1.5% -> 254.39682 | O32: =SUM(G32:N32) -> 267718.84 | P32: =P31*E32 -> 3657.7852 | T32: =SUM(P32:S32) -> 3657.7852 | U32: =O32+T32 -> 271376.62 | X32: =G32+K32 -> 221474.88 | Y32: =X32*13.71% -> 30364.206 | Z32: =F32*250*C32 -> 3000 | AA32: =X32-Y32-Z32 -> 188110.67 | AB32: =AA32/C32 -> 188110.67 | AC32: =IF(AB32<120000,((AB32*0.12)-3600),((10800+((AB32-120000)*0.32)))) -> 32595.416 | AD32: =AC32*C32 -> 32595.416 | AE32: =I32+M32+Y32 -> 67859.904 | AF32: =(X32-Y32)*0.09 -> 17199.961 | AG32: =H32+L32 -> 5426.1346
A33: 2037 | B33: 10 | C33: 1 | D33: =D32*E33 -> 17468.998 | E33: 1.025 | F33: 12 | G33: =D33*C33*F33 -> 209627.97 | H33: =G33*2.45% -> 5135.8853 | I33: =G33*16.93% -> 35490.015 | J33: =G33*1.5% -> 3144.4196 | K33: =G32*8.5% -> 17383.783 | L33: =K33*2.45% -> 425.90268 | M33: =K33*16.93% -> 2943.0744 | N33: =K33*1.5% -> 260.75674 | O33: =SUM(G33:N33) -> 274411.81 | P33: =P32*E33 -> 3749.2299 | R33: =R31*$E33*$E32 -> 842.01403 | S33: =S31*$E33*$E32 -> 764.30925 | T33: =SUM(P33:S33) -> 5355.5531 | U33: =O33+T33 -> 279767.36 | X33: =G33+K33 -> 227011.75 | Y33: =X33*13.71% -> 31123.311 | Z33: =F33*250*C33 -> 3000 | AA33: =X33-Y33-Z33 -> 192888.44 | AB33: =AA33/C33 -> 192888.44 | AC33: =IF(AB33<120000,((AB33*0.12)-3600),((10800+((AB33-120000)*0.32)))) -> 34124.301 | AD33: =AC33*C33 -> 34124.301 | AE33: =I33+M33+Y33 -> 69556.401 | AF33: =(X33-Y33)*0.09 -> 17629.96 | AG33: =H33+L33 -> 5561.7879
A34: OGÓŁEM | G34: =SUM(G23:G33) -> 2046269.2 | H34: =G34*2.45% -> 50133.595 | I34: =G34*17.19% -> 351753.67 | J34: =G34*1.5% -> 30694.038 | K34: =K23+K24+K25+K26+K27+K28+K29+K30+K31+K32+K33 -> 156114.5 | L34: =K34*2.45% -> 3824.8053 | M34: =K34*17.19% -> 26836.083 | N34: =K34*1.5% -> 2341.7175 | O34: =SUM(G34:N34) -> 2667967.6 | P34: =SUM(P23:P33) -> 36597.853 | Q34: =SUM(Q23:Q33) -> 550 | R34: =SUM(R23:R33) -> 3825.453 | S34: =SUM(S23:S33) -> 4072.4233 | T34: =P34+Q34+R34+S34 -> 45045.729 | U34: =O34+T34 -> 2713013.3 | X34: =SUM(X23:X33) -> 2202383.7 | Y34: =SUM(Y23:Y33) -> 301946.8 | AD34: =SUM(AD23:AD33) -> 293979.8 | AE34: =SUM(AE23:AE33) -> 674810.36 | AF34: =SUM(AF23:AF33) -> 171039.32 | AG34: =SUM(AG23:AG33) -> 53958.4
A43: OSR - CPC | D43: wynagrodzenia oraz dotatkowe wynagrodzenie roczne wraz pochodnymi | P43: dodtakowe wydatki związane z zatrudnieniem | AD43: oddziaływanie
C44: liczba etatów | D44: średnia płaca w UOKiK dla korpusu służby cywilnej z uwzględnieniem stopy wzrostu - wyższe stanowiska | E44: wzrost kosztów (CPI) | F44: liczba miesięcy | G44: wynagrodzenie | H44: pochodne Fundusz Pracy i Fundusz Solidarnościowy | I44: pochodne ZUS | J44: PPK | K44: DWR | L44: pochodne Fundusz Pracy i Fundusz Solidarnościowy | M44: pochodne ZUS | N44: PPK | O44: razem wynagrodzenia | P44: ZFŚS | Q44: medycyna pracy (badania wstępne) | R44: medycyna pracy (badania okresowe) | S44: BHP (dofinansowanie okularów do pracy przy komputerze) | T44: razem koszty dodatkowe | U44: razem | X44: wynagrodzenie brutto razem z DWR | Y44: składki ZUS pracownika | Z44: koszty uzyskania przychodu | AA44: dochód do opodatkowania | AB44: dochód na 1 etat | AC44: szacunkowe zaliczki na podatek dochodowy 1 etat (oddziaływanie na US) | AD44: szacunkowe zaliczki na podatek dochodowy (oddziaływanie na US) | AE44: szacunkowe składki ZUS (oddziaływanie na ZUS) | AF44: szacunkowa składka zdrowotna (oddziaływanie na NFZ) | AG44: pochodne Fundusz Pracy i Fundusz Solidarnościowy
A45: 2027 | B45: rok "0" | C45: 1 | D45: 25000 | E45: 0 | F45: 12 | G45: =C45*D45*F45 -> 300000 | H45: =G45*2.45% -> 7350 | I45: =G45*16.93% -> 50790 | J45: =G45*1.5% -> 4500 | K45: 0 | L45: =K45*2.45% -> 0 | M45: =K45*17.19% -> 0 | N45: =K45*1.5% -> 0 | O45: =SUM(G45:N45) -> 362640 | P45: =2943.23*C45 -> 2943.23 | Q45: =C45*550 -> 550 | S45: =C45*600 -> 600 | T45: =SUM(P45:S45) -> 4093.23 | U45: =(O45+T45) -> 366733.23 | X45: =G45+K45 -> 300000 | Y45: =X45*13.71% -> 41130 | Z45: =F45*250*C45 -> 3000 | AA45: =X45-Y45-Z45 -> 255870 | AB45: =AA45/C45 -> 255870 | AC45: =IF(AB45<120000,((AB45*0.12)-3600),((10800+((AB45-120000)*0.32)))) -> 54278.4 | AD45: =AC45*C45 -> 54278.4 | AE45: =I45+M45+Y45 -> 91920 | AF45: =(X45-Y45)*0.09 -> 23298.3 | AG45: =H45+L45 -> 7350
A46: 2028 | B46: 1 | C46: 1 | D46: =D45*E46 -> 25600 | E46: 1.024 | F46: 12 | G46: =C46*D46*F46 -> 307200 | H46: =G46*2.45% -> 7526.4 | I46: =G46*16.93% -> 52008.96 | J46: =G46*1.5% -> 4608 | K46: =G45*8.5% -> 25500 | L46: =K46*2.45% -> 624.75 | M46: =K46*16.93% -> 4317.15 | N46: =K46*1.5% -> 382.5 | O46: =SUM(G46:N46) -> 402167.76 | P46: =P45*E46 -> 3013.8675 | T46: =SUM(P46:S46) -> 3013.8675 | U46: =O46+T46 -> 405181.63 | X46: =G46+K46 -> 332700 | Y46: =X46*13.71% -> 45613.17 | Z46: =F46*250*C46 -> 3000 | AA46: =X46-Y46-Z46 -> 284086.83 | AB46: =AA46/C46 -> 284086.83 | AC46: =IF(AB46<120000,((AB46*0.12)-3600),((10800+((AB46-120000)*0.32)))) -> 63307.786 | AD46: =AC46*C46 -> 63307.786 | AE46: =I46+M46+Y46 -> 101939.28 | AF46: =(X46-Y46)*0.09 -> 25837.815 | AG46: =H46+L46 -> 8151.15
A47: 2029 | B47: 2 | C47: 1 | D47: =D46*E47 -> 26214.4 | E47: 1.024 | F47: 12 | G47: =C47*D47*F47 -> 314572.8 | H47: =G47*2.45% -> 7707.0336 | I47: =G47*16.93% -> 53257.175 | J47: =G47*1.5% -> 4718.592 | K47: =G46*8.5% -> 26112 | L47: =K47*2.45% -> 639.744 | M47: =K47*16.93% -> 4420.7616 | N47: =K47*1.5% -> 391.68 | O47: =SUM(G47:N47) -> 411819.79 | P47: =P46*E47 -> 3086.2003 | R47: =661*$E46*$E47*$C47 -> 693.10874 | S47: =S45*$E47*$E46 -> 629.1456 | T47: =SUM(P47:S47) -> 4408.4547 | U47: =O47+T47 -> 416228.24 | X47: =G47+K47 -> 340684.8 | Y47: =X47*13.71% -> 46707.886 | Z47: =F47*250*C47 -> 3000 | AA47: =X47-Y47-Z47 -> 290976.91 | AB47: =AA47/C47 -> 290976.91 | AC47: =IF(AB47<120000,((AB47*0.12)-3600),((10800+((AB47-120000)*0.32)))) -> 65512.612 | AD47: =AC47*C47 -> 65512.612 | AE47: =I47+M47+Y47 -> 104385.82 | AF47: =(X47-Y47)*0.09 -> 26457.922 | AG47: =H47+L47 -> 8346.7776
A48: 2030 | B48: 3 | C48: 1 | D48: =D47*E48 -> 26791.117 | E48: 1.022 | F48: 12 | G48: =C48*D48*F48 -> 321493.4 | H48: =G48*2.45% -> 7876.5883 | I48: =G48*16.93% -> 54428.833 | J48: =G48*1.5% -> 4822.401 | K48: =G47*8.5% -> 26738.688 | L48: =K48*2.45% -> 655.09786 | M48: =K48*16.93% -> 4526.8599 | N48: =K48*1.5% -> 401.08032 | O48: =SUM(G48:N48) -> 420942.95 | P48: =P47*E48 -> 3154.0967 | T48: =SUM(P48:S48) -> 3154.0967 | U48: =O48+T48 -> 424097.05 | X48: =G48+K48 -> 348232.09 | Y48: =X48*13.71% -> 47742.619 | Z48: =F48*250*C48 -> 3000 | AA48: =X48-Y48-Z48 -> 297489.47 | AB48: =AA48/C48 -> 297489.47 | AC48: =IF(AB48<120000,((AB48*0.12)-3600),((10800+((AB48-120000)*0.32)))) -> 67596.63 | AD48: =AC48*C48 -> 67596.63 | AE48: =I48+M48+Y48 -> 106698.31 | AF48: =(X48-Y48)*0.09 -> 27044.052 | AG48: =H48+L48 -> 8531.6862
A49: 2031 | B49: 4 | C49: 1 | D49: =D48*E49 -> 27460.895 | E49: 1.025 | F49: 12 | G49: =C49*D49*F49 -> 329530.74 | H49: =G49*2.45% -> 8073.503 | I49: =G49*16.93% -> 55789.554 | J49: =G49*1.5% -> 4942.961 | K49: =G48*8.5% -> 27326.939 | L49: =K49*2.45% -> 669.51001 | M49: =K49*16.93% -> 4626.4508 | N49: =K49*1.5% -> 409.90409 | O49: =SUM(G49:N49) -> 431369.56 | P49: =P48*E49 -> 3232.9492 | R49: =R47*$E49*$E48 -> 726.06606 | S49: =S47*$E49*$E48 -> 659.06147 | T49: =SUM(P49:S49) -> 4618.0767 | U49: =O49+T49 -> 435987.64 | X49: =G49+K49 -> 356857.68 | Y49: =X49*13.71% -> 48925.187 | Z49: =F49*250*C49 -> 3000 | AA49: =X49-Y49-Z49 -> 304932.49 | AB49: =AA49/C49 -> 304932.49 | AC49: =IF(AB49<120000,((AB49*0.12)-3600),((10800+((AB49-120000)*0.32)))) -> 69978.396 | AD49: =AC49*C49 -> 69978.396 | AE49: =I49+M49+Y49 -> 109341.19 | AF49: =(X49-Y49)*0.09 -> 27713.924 | AG49: =H49+L49 -> 8743.0131
...

Sheet Koszty pozostałe
E1: Koszt w roku
A2: nazwa wydatku | B2: częstotliwość wydatku | C2: liczba | D2: cena | E2: 0 | F2: Koszt w roku 0 | G2: 1 | H2: 2 | I2: 3 | J2: 4 | K2: 5 | L2: 6 | M2: 7 | N2: 8 | O2: 9 | P2: 10
A4: Wyposażenie księgowy (stanowisko wspomagające)
A5: utworzenie stanowisk pracy (biurka, komputery, regały, niszczarka, lampki itp.) - stanowiska wspomagające | B5: jednorazowy/20% utrzymania | C5: 1 | D5: =10324.63+15000 -> 25324.63 | E5: =C5*D5 -> 25324.63 | F5: =E5 -> 25324.63 | G5: =E5*(1+'Panel kontrolny'!B$26)*0.2 -> 5191.5491 | H5: =G5*(1+'Panel kontrolny'!C$26) -> 5321.3379 | I5: =H5*(1+'Panel kontrolny'!D$26) -> 5449.05 | J5: =I5*(1+'Panel kontrolny'!E$26) -> 5579.8272 | K5: =J5*(1+'Panel kontrolny'!F$26) -> 5702.5834 | L5: =K5*(1+'Panel kontrolny'!G$26) -> 5845.148 | M5: =L5*(1+'Panel kontrolny'!H$26) -> 5991.2767 | N5: =M5*(1+'Panel kontrolny'!I$26) -> 6141.0586 | O5: =N5*(1+'Panel kontrolny'!J$26) -> 6294.5851 | P5: =O5*(1+'Panel kontrolny'!K$26) -> 6451.9497
A6: Oprogramowanie (licencja office) | B6: jednorazowy | C6: 1 | D6: 2200 | E6: =C6*D6 -> 2200 | F6: =E6 -> 2200 | G6: 0 | H6: =G6*(1+'Panel kontrolny'!C$26) -> 0 | I6: =H6*(1+'Panel kontrolny'!D$26) -> 0 | J6: =I6*(1+'Panel kontrolny'!E$26) -> 0 | K6: =J6*(1+'Panel kontrolny'!F$26) -> 0 | L6: =K6*(1+'Panel kontrolny'!G$26) -> 0 | M6: =L6*(1+'Panel kontrolny'!H$26) -> 0 | N6: =M6*(1+'Panel kontrolny'!I$26) -> 0 | O6: =N6*(1+'Panel kontrolny'!J$26) -> 0 | P6: =O6*(1+'Panel kontrolny'!K$26) -> 0
A7: szkolenia | B7: jednorazowy/20% (rotacja etatów) | C7: 1 | D7: 2400 | E7: =C7*D7 -> 2400 | F7: =E7 -> 2400 | G7: =E7*(1+'Panel kontrolny'!B$26)*0.2 -> 492 | H7: =G7*(1+'Panel kontrolny'!C$26) -> 504.3 | I7: =H7*(1+'Panel kontrolny'!D$26) -> 516.4032 | J7: =I7*(1+'Panel kontrolny'!E$26) -> 528.79688 | K7: =J7*(1+'Panel kontrolny'!F$26) -> 540.43041 | L7: =K7*(1+'Panel kontrolny'!G$26) -> 553.94117 | M7: =L7*(1+'Panel kontrolny'!H$26) -> 567.7897 | N7: =M7*(1+'Panel kontrolny'!I$26) -> 581.98444 | O7: =N7*(1+'Panel kontrolny'!J$26) -> 596.53405 | P7: =O7*(1+'Panel kontrolny'!K$26) -> 611.4474
A8: Wyposażenie dyrektorzy:
A9: utworzenie stanowisk pracy (biurka, regały, niszczarka, lampki itp.) - funkcjonariusze i dyrektorzy | B9: jednorazowy/20% utrzymania | C9: ='Panel kontrolny'!$U$5 -> 1 | D9: 10324.63 | E9: =C9*D9 -> 10324.63 | F9: =E9 -> 10324.63 | G9: =E9*(1+'Panel kontrolny'!B$26)*0.2 -> 2116.5491 | H9: =G9*(1+'Panel kontrolny'!C$26) -> 2169.4629 | I9: =H9*(1+'Panel kontrolny'!D$26) -> 2221.53 | J9: =I9*(1+'Panel kontrolny'!E$26) -> 2274.8467 | K9: =J9*(1+'Panel kontrolny'!F$26) -> 2324.8933 | L9: =K9*(1+'Panel kontrolny'!G$26) -> 2383.0157 | M9: =L9*(1+'Panel kontrolny'!H$26) -> 2442.5911 | N9: =M9*(1+'Panel kontrolny'!I$26) -> 2503.6558 | O9: =N9*(1+'Panel kontrolny'!J$26) -> 2566.2472 | P9: =O9*(1+'Panel kontrolny'!K$26) -> 2630.4034
A10: Komputery do przetwarzania danych pochodzących ze STIR ( z dodatkowym monitorem i stacją dokującą) | B10: jednorazowy/20% utrzymania | C10: ='Panel kontrolny'!$U$5 -> 1 | D10: 15000 | E10: =C10*D10 -> 15000 | F10: =E10 -> 15000 | G10: =E10*(1+'Panel kontrolny'!B$26)*0.2 -> 3075 | H10: =G10*(1+'Panel kontrolny'!C$26) -> 3151.875 | I10: =H10*(1+'Panel kontrolny'!D$26) -> 3227.52 | J10: =I10*(1+'Panel kontrolny'!E$26) -> 3304.9805 | K10: =J10*(1+'Panel kontrolny'!F$26) -> 3377.6901 | L10: =K10*(1+'Panel kontrolny'!G$26) -> 3462.1323 | M10: =L10*(1+'Panel kontrolny'!H$26) -> 3548.6856 | N10: =M10*(1+'Panel kontrolny'!I$26) -> 3637.4027 | O10: =N10*(1+'Panel kontrolny'!J$26) -> 3728.3378 | P10: =O10*(1+'Panel kontrolny'!K$26) -> 3821.5463
A11: Oprogramowanie (licencja office + Access) | B11: jednorazowy | C11: ='Panel kontrolny'!$U$5 -> 1 | D11: 2500 | E11: =C11*D11 -> 2500 | F11: =E11 -> 2500 | G11: 0 | H11: =G11*(1+'Panel kontrolny'!C$26) -> 0 | I11: =H11*(1+'Panel kontrolny'!D$26) -> 0 | J11: =I11*(1+'Panel kontrolny'!E$26) -> 0 | K11: =J11*(1+'Panel kontrolny'!F$26) -> 0 | L11: =K11*(1+'Panel kontrolny'!G$26) -> 0 | M11: =L11*(1+'Panel kontrolny'!H$26) -> 0 | N11: =M11*(1+'Panel kontrolny'!I$26) -> 0 | O11: =N11*(1+'Panel kontrolny'!J$26) -> 0 | P11: =O11*(1+'Panel kontrolny'!K$26) -> 0
A12: w telefony komórkowe | B12: jednorazowy/20% utrzymania | C12: ='Panel kontrolny'!$U$5 -> 1 | D12: 4000 | E12: =C12*D12 -> 4000 | F12: =E12 -> 4000 | G12: =E12*(1+'Panel kontrolny'!B$26)*0.2 -> 820 | H12: =G12*(1+'Panel kontrolny'!C$26) -> 840.5 | I12: =H12*(1+'Panel kontrolny'!D$26) -> 860.672 | J12: =I12*(1+'Panel kontrolny'!E$26) -> 881.32813 | K12: =J12*(1+'Panel kontrolny'!F$26) -> 900.71735 | L12: =K12*(1+'Panel kontrolny'!G$26) -> 923.23528 | M12: =L12*(1+'Panel kontrolny'!H$26) -> 946.31616 | N12: =M12*(1+'Panel kontrolny'!I$26) -> 969.97407 | O12: =N12*(1+'Panel kontrolny'!J$26) -> 994.22342 | P12: =O12*(1+'Panel kontrolny'!K$26) -> 1019.079
A13: koszty zakupu usług telefonii komórkowej | B13: roczny | C13: ='Panel kontrolny'!$U$5 -> 1 | D13: 1000 | E13: =C13*D13 -> 1000 | F13: =E13*(1+'Panel kontrolny'!$AM$4) -> 1000 | G13: =E13*(1+'Panel kontrolny'!D$26) -> 1024 | H13: =G13*(1+'Panel kontrolny'!C$26) -> 1049.6 | I13: =H13*(1+'Panel kontrolny'!D$26) -> 1074.7904 | J13: =I13*(1+'Panel kontrolny'!E$26) -> 1100.5854 | K13: =J13*(1+'Panel kontrolny'!F$26) -> 1124.7982 | L13: =K13*(1+'Panel kontrolny'!G$26) -> 1152.9182 | M13: =L13*(1+'Panel kontrolny'!H$26) -> 1181.7412 | N13: =M13*(1+'Panel kontrolny'!I$26) -> 1211.2847 | O13: =N13*(1+'Panel kontrolny'!J$26) -> 1241.5668 | P13: =O13*(1+'Panel kontrolny'!K$26) -> 1272.606
A14: Wyposażenie pracowników:
A15: utworzenie stanowisk pracy (biurka, regały, niszczarka, lampki itp.) - pracownicy i dyrektorzy | B15: jednorazowy/20% utrzymania | C15: ='Panel kontrolny'!$U$2 -> 16 | D15: 10324.63 | E15: =C15*D15 -> 165194.08 | F15: =E15 -> 165194.08 | G15: =E15*(1+'Panel kontrolny'!B$26)*0.2 -> 33864.786 | H15: =G15*(1+'Panel kontrolny'!C$26) -> 34711.406 | I15: =H15*(1+'Panel kontrolny'!D$26) -> 35544.48 | J15: =I15*(1+'Panel kontrolny'!E$26) -> 36397.547 | K15: =J15*(1+'Panel kontrolny'!F$26) -> 37198.293 | L15: =K15*(1+'Panel kontrolny'!G$26) -> 38128.251 | M15: =L15*(1+'Panel kontrolny'!H$26) -> 39081.457 | N15: =M15*(1+'Panel kontrolny'!I$26) -> 40058.493 | O15: =N15*(1+'Panel kontrolny'!J$26) -> 41059.956 | P15: =O15*(1+'Panel kontrolny'!K$26) -> 42086.455
A16: Komputery do przetwarzania danych pochodzących ze STIR ( z dodatkowym monitorem i stacją dokującą) | B16: jednorazowy/20% utrzymania | C16: ='Panel kontrolny'!$U$2 -> 16 | D16: 15000 | E16: =C16*D16 -> 240000 | F16: =E16 -> 240000 | G16: =E16*(1+'Panel kontrolny'!B$26)*0.2 -> 49200 | H16: =G16*(1+'Panel kontrolny'!C$26) -> 50430 | I16: =H16*(1+'Panel kontrolny'!D$26) -> 51640.32 | J16: =I16*(1+'Panel kontrolny'!E$26) -> 52879.688 | K16: =J16*(1+'Panel kontrolny'!F$26) -> 54043.041 | L16: =K16*(1+'Panel kontrolny'!G$26) -> 55394.117 | M16: =L16*(1+'Panel kontrolny'!H$26) -> 56778.97 | N16: =M16*(1+'Panel kontrolny'!I$26) -> 58198.444 | O16: =N16*(1+'Panel kontrolny'!J$26) -> 59653.405 | P16: =O16*(1+'Panel kontrolny'!K$26) -> 61144.74
A17: Oprogramowanie (licencja office + Access) | B17: jednorazowy | C17: ='Panel kontrolny'!$U$2 -> 16 | D17: 2500 | E17: =C17*D17 -> 40000 | F17: =E17 -> 40000 | G17: 0 | H17: =G17*(1+'Panel kontrolny'!C$26) -> 0 | I17: =H17*(1+'Panel kontrolny'!D$26) -> 0 | J17: =I17*(1+'Panel kontrolny'!E$26) -> 0 | K17: =J17*(1+'Panel kontrolny'!F$26) -> 0 | L17: =K17*(1+'Panel kontrolny'!G$26) -> 0 | M17: =L17*(1+'Panel kontrolny'!H$26) -> 0 | N17: =M17*(1+'Panel kontrolny'!I$26) -> 0 | O17: =N17*(1+'Panel kontrolny'!J$26) -> 0 | P17: =O17*(1+'Panel kontrolny'!K$26) -> 0
A18: w telefony komórkowe | B18: jednorazowy/20% utrzymania | C18: ='Panel kontrolny'!$U$2 -> 16 | D18: 4000 | E18: =C18*D18 -> 64000 | F18: =E18 -> 64000 | G18: =E18*(1+'Panel kontrolny'!B$26)*0.2 -> 13120 | H18: =G18*(1+'Panel kontrolny'!C$26) -> 13448 | I18: =H18*(1+'Panel kontrolny'!D$26) -> 13770.752 | J18: =I18*(1+'Panel kontrolny'!E$26) -> 14101.25 | K18: =J18*(1+'Panel kontrolny'!F$26) -> 14411.478 | L18: =K18*(1+'Panel kontrolny'!G$26) -> 14771.764 | M18: =L18*(1+'Panel kontrolny'!H$26) -> 15141.059 | N18: =M18*(1+'Panel kontrolny'!I$26) -> 15519.585 | O18: =N18*(1+'Panel kontrolny'!J$26) -> 15907.575 | P18: =O18*(1+'Panel kontrolny'!K$26) -> 16305.264
A19: koszty zakupu usług telefonii komórkowej | B19: roczny | C19: ='Panel kontrolny'!$U$2 -> 16 | D19: 1000 | E19: =C19*D19 -> 16000 | F19: =E19*(1+'Panel kontrolny'!$AM$4) -> 16000 | G19: =E19*(1+'Panel kontrolny'!B$26) -> 16400 | H19: =G19*(1+'Panel kontrolny'!C$26) -> 16810 | I19: =H19*(1+'Panel kontrolny'!D$26) -> 17213.44 | J19: =I19*(1+'Panel kontrolny'!E$26) -> 17626.563 | K19: =J19*(1+'Panel kontrolny'!F$26) -> 18014.347 | L19: =K19*(1+'Panel kontrolny'!G$26) -> 18464.706 | M19: =L19*(1+'Panel kontrolny'!H$26) -> 18926.323 | N19: =M19*(1+'Panel kontrolny'!I$26) -> 19399.481 | O19: =N19*(1+'Panel kontrolny'!J$26) -> 19884.468 | P19: =O19*(1+'Panel kontrolny'!K$26) -> 20381.58
A20: Sprzęt do przeszukań - urządzenia
