Workbook

Sheet CO1
A1: CEL OPERACYJNY 1: Zdrowe wybory – wzmacnianie i tworzenie warunków sprzyjających podejmowaniu prozdrowotnych wyborów przez jednostki i populację
A3: Lp. | B3: Cel szczegółowy | C3: Kategoria działania | D3: Nazwa zadania | E3: Okres realizacji | F3: Realizator | G3: Tryb realizacji | H3: 2027 | M3: 2028 | R3: 2029 | W3: 2030 | AB3: 2031 | AG3: 2032 | AL3: 2033 | AQ3: 2034 | AV3: 2035 | BA3: 2036 | BF3: Źródło weryfikacji miernika | BG3: Uwagi / założenia
H4: Planowana kwota (zł) | I4: Proponowany miernik rezultatu | J4: Jednostka miary | K4: Planowana wartość miernika | L4: Wartość osiągnięta | M4: Planowana kwota (zł) | N4: Proponowany miernik rezultatu | O4: Jednostka miary | P4: Planowana wartość miernika | Q4: Wartość osiągnięta | R4: Planowana kwota (zł) | S4: Proponowany miernik rezultatu | T4: Jednostka miary | U4: Planowana wartość miernika | V4: Wartość osiągnięta | W4: Planowana kwota (zł) | X4: Proponowany miernik rezultatu | Y4: Jednostka miary | Z4: Planowana wartość miernika | AA4: Wartość osiągnięta | AB4: Planowana kwota (zł) | AC4: Proponowany miernik rezultatu | AD4: Jednostka miary | AE4: Planowana wartość miernika | AF4: Wartość osiągnięta | AG4: Planowana kwota (zł) | AH4: Proponowany miernik rezultatu | AI4: Jednostka miary | AJ4: Planowana wartość miernika | AK4: Wartość osiągnięta | AL4: Planowana kwota (zł) | AM4: Proponowany miernik rezultatu | AN4: Jednostka miary | AO4: Planowana wartość miernika | AP4: Wartość osiągnięta | AQ4: Planowana kwota (zł) | AR4: Proponowany miernik rezultatu | AS4: Jednostka miary | AT4: Planowana wartość miernika | AU4: Wartość osiągnięta | AV4: Planowana kwota (zł) | AW4: Proponowany miernik rezultatu | AX4: Jednostka miary | AY4: Planowana wartość miernika | AZ4: Wartość osiągnięta | BA4: Planowana kwota (zł) | BB4: Proponowany miernik rezultatu | BC4: Jednostka miary | BD4: Planowana wartość miernika | BE4: Wartość osiągnięta
A5: 1 | B5: 1.1 Tytoń – zmniejszenie obciążeń zdrowotnych wynikających z używania tytoniu i wyrobów nikotynowych | C5: Interwencje zdrowia publicznego | D5: Ułatwianie wychodzenia z uzależnienia od nikotyny, w tym przez popularyzację i zwiększanie dostępności oferty poradni pomocy palącym | E5: 2027–2036 | F5: JST, GIS, PIS NIO-PIB na podstawie umowy zawartej z MZ na wniosek NIO-PIB; | G5: zadanie własne; zadanie powierzane w trybie wnioskowym;
A6: 2 | B6: 1.1 Tytoń – zmniejszenie obciążeń zdrowotnych wynikających z używania tytoniu i wyrobów nikotynowych | C6: Interwencje zdrowia publicznego | D6: Podnoszenie wiedzy personelu medycznego w zakresie leczenia uzależnienia od nikotyny | E6: 2027–2036 | F6: CMKP, MZ; podmioty wybrane w drodze konkursów ogłaszanych przez MZ, JST | G6: zadanie własne; zadanie powierzane w trybie wnioskowym;
A7: 3 | B7: 1.1 Tytoń – zmniejszenie obciążeń zdrowotnych wynikających z używania tytoniu i wyrobów nikotynowych | C7: Interwencje zdrowia publicznego | D7: Działania edukacyjne w zakresie profilaktyki antynikotynowej | E7: 2027–2036 | F7: JST, GIS, PIS NIO-PIB na podstawie umowy zawartej z MZ na wniosek NIO-PIB; | G7: zadanie własne; zadanie powierzane w trybie wnioskowym;
A8: 4 | B8: 1.1 Tytoń – zmniejszenie obciążeń zdrowotnych wynikających z używania tytoniu i wyrobów nikotynowych | C8: Działania wspierające | D8: Opracowanie metodologii cyklicznych, reprezentatywnych badań rozpowszechnienia korzystania z wyrobów tytoniowych i powiązanych oraz postaw społecznych wobec używania tych wyrobów | E8: 2027 | F8: MZ; podmioty wybrane w drodze konkursów ogłaszanych przez MZ | G8: zadanie własne; zadanie powierzane w trybie konkursowym
A9: 5 | B9: 1.1 Tytoń – zmniejszenie obciążeń zdrowotnych wynikających z używania tytoniu i wyrobów nikotynowych | C9: Działania wspierające | D9: Prowadzenie badań w zakresie używania wyrobów tytoniowych i powiązanych (z uwzględnieniem między innymi: skali zjawiska oraz postaw społeczeństwa na temat używania ww. wyrobów) we wszystkich grupach wiekowych | E9: 2028–2036 | F9: MZ; podmioty wybrane w drodze konkursów ogłaszanych przez MZ | G9: zadanie własne; zadanie powierzane w trybie konkursowym
A10: 6 | B10: 1.1 Tytoń – zmniejszenie obciążeń zdrowotnych wynikających z używania tytoniu i wyrobów nikotynowych | C10: Działania wspierające | D10: Ewaluacja skuteczności podejmowanych interwencji i działalności regulacyjnej | E10: 2029–2034 | F10: MZ; podmioty wybrane w drodze konkursów ogłaszanych przez MZ | G10: zadanie własne; zadanie powierzane w trybie konkursowym
A11: 7 | B11: 1.2 Alkohol – zmniejszenie obciążeń zdrowotnych wynikających z konsumpcji alkoholu | C11: Interwencje zdrowia publicznego | D11: Wdrożenie i upowszechnianie standardów i procedur profilaktyki, diagnozy oraz terapii FASD (Spektrum Płodowych Zaburzeń Alkoholowych) zgodnie z aktualnym stanem wiedzy naukowej | E11: 2027–2036 | F11: JST, KCPU; podmioty wybrane w drodze konkursów (FRPH) ogłaszanych przez KCPU | G11: zadanie własne; zadanie powierzane w trybie konkursowym (FRPH)
A12: 8 | B12: 1.2 Alkohol – zmniejszenie obciążeń zdrowotnych wynikających z konsumpcji alkoholu | C12: Interwencje zdrowia publicznego | D12: Prowadzenie działań w obszarze edukacji publicznej związanej ze szkodami wynikającymi z używania alkoholu | E12: 2027–2036 | F12: MZ, NFZ, GIS, JST, KCPU; podmioty wybrane w drodze konkursów (FRPH) ogłaszanych przez KCPU | G12: zadanie własne; zadanie powierzane w trybie konkursowym (FRPH)
A13: 9 | B13: 1.2 Alkohol – zmniejszenie obciążeń zdrowotnych wynikających z konsumpcji alkoholu | C13: Działania wspierające | D13: Prowadzenie badań postaw społeczeństwa na temat spożycia alkoholu we wszystkich grupach wiekowych | E13: 2027–2036 | F13: GUS, KCPU; podmioty wybrane w drodze konkursów (FRPH) ogłaszanych przez KCPU | G13: zadanie własne; zadanie powierzane w trybie konkursowym (FRPH)
A14: 10 | B14: 1.2 Alkohol – zmniejszenie obciążeń zdrowotnych wynikających z konsumpcji alkoholu | C14: Działania wspierające | D14: Ewaluacja skuteczności podejmowanych interwencji i działalności regulacyjnej | E14: 2027–2036 | F14: GUS, KCPU; podmioty wybrane w drodze konkursów (FRPH) ogłaszanych przez KCPU | G14: zadanie własne; zadanie powierzane w trybie konkursowym (FRPH)
A15: 11 | B15: 1.3 Narkotyki – zmniejszenie obciążeń zdrowotnych wynikających ze stosowania środków odurzających, substancji psychotropowych, środków zastępczych i nowych substancji psychoaktywnych | C15: Interwencje zdrowia publicznego | D15: Upowszechnianie programów terapeutycznych skierowanych do użytkowników przetworów konopi innych niż włókniste i osób uzależnionych od nich | E15: 2027–2036 | F15: KCPU; podmioty wybrane w drodze konkursów (FRPH) ogłaszanych przez KCPU | G15: zadanie własne; zadanie powierzane w trybie konkursowym (FRPH)
A16: 12 | B16: 1.3 Narkotyki – zmniejszenie obciążeń zdrowotnych wynikających ze stosowania środków odurzających, substancji psychotropowych, środków zastępczych i nowych substancji psychoaktywnych | C16: Interwencje zdrowia publicznego | D16: Upowszechnianie interwencji zapobiegających przedawkowaniom i zgonom związanym z używaniem opioidów | E16: 2027–2036 | F16: KCPU; podmioty wybrane w drodze konkursów (FRPH) ogłaszanych przez KCPU | G16: zadanie własne; zadanie powierzane w trybie konkursowym (FRPH)
... A60: 56 | B60: 1.8 Przeciwdziałanie zakażeniom przenoszonym drogą płciową – zmniejszenie obciążeń zdrowotnych wynikających z ryzykownych zachowań seksualnych | C60: Działania wspierające | D60: Prowadzenie badań ewaluacyjnych dot. poziomu świadomości społecznej, wiedzy i kompetencji w zakresie problematyki STI | E60: 2029-2030, 2034-2035 | F60: KCAIDS KCAIDS w ramach umowy z MZ zawartej na wniosek KCAIDS; podmioty wybrane w drodze konkursów ogłaszanych przez KCAIDS, | G60: zadanie własne; zadanie powierzane w trybie wnioskowym; zadanie powierzone w trybie konkursowym

Sheet CO2
A1: CEL OPERACYJNY 2: Zdrowe środowiska – kształtowanie warunków zamieszkania, nauki i pracy sprzyjających zdrowiu jednostek i populacji
A3: Lp. | B3: Cel szczegółowy | C3: Kategoria działania | D3: Nazwa zadania | E3: Okres realizacji | F3: Realizator | G3: Tryb realizacji | H3: 2027 | M3: 2028 | R3: 2029 | W3: 2030 | AB3: 2031 | AG3: 2032 | AL3: 2033 | AQ3: 2034 | AV3: 2035 | BA3: 2036 | BF3: Źródło weryfikacji miernika | BG3: Uwagi / założenia
H4: Planowana kwota (zł) | I4: Proponowany miernik rezultatu | J4: Jednostka miary | K4: Planowana wartość miernika | L4: Wartość osiągnięta | M4: Planowana kwota (zł) | N4: Proponowany miernik rezultatu | O4: Jednostka miary | P4: Planowana wartość miernika | Q4: Wartość osiągnięta | R4: Planowana kwota (zł) | S4: Proponowany miernik rezultatu | T4: Jednostka miary | U4: Planowana wartość miernika | V4: Wartość osiągnięta | W4: Planowana kwota (zł) | X4: Proponowany miernik rezultatu | Y4: Jednostka miary | Z4: Planowana wartość miernika | AA4: Wartość osiągnięta | AB4: Planowana kwota (zł) | AC4: Proponowany miernik rezultatu | AD4: Jednostka miary | AE4: Planowana wartość miernika | AF4: Wartość osiągnięta | AG4: Planowana kwota (zł) | AH4: Proponowany miernik rezultatu | AI4: Jednostka miary | AJ4: Planowana wartość miernika | AK4: Wartość osiągnięta | AL4: Planowana kwota (zł) | AM4: Proponowany miernik rezultatu | AN4: Jednostka miary | AO4: Planowana wartość miernika | AP4: Wartość osiągnięta | AQ4: Planowana kwota (zł) | AR4: Proponowany miernik rezultatu | AS4: Jednostka miary | AT4: Planowana wartość miernika | AU4: Wartość osiągnięta | AV4: Planowana kwota (zł) | AW4: Proponowany miernik rezultatu | AX4: Jednostka miary | AY4: Planowana wartość miernika | AZ4: Wartość osiągnięta | BA4: Planowana kwota (zł) | BB4: Proponowany miernik rezultatu | BC4: Jednostka miary | BD4: Planowana wartość miernika | BE4: Wartość osiągnięta
A5: 1 | B5: 2.1 Środowisko – zmniejszenie wpływu czynników środowiskowych na zdrowie | C5: Interwencje zdrowia publicznego | D5: Realizacja działań edukacyjnych mających na celu zapobieganie powstawaniu odpadów medycznych i promowanie odpowiedzialnych praktyk środowiskowych w ochronie zdrowia. | E5: 2028-2030 | F5: MK we współpracy z MZ, MON, MSW; podmioty wybrane w drodze konkursu ogłaszanego przez MZ | G5: zadanie własne; zadanie powierzane w trybie konkursowym
A6: 2 | B6: 2.1 Środowisko – zmniejszenie wpływu czynników środowiskowych na zdrowie | C6: Działania wspierające | D6: Przeprowadzenie analizy dotyczącej korelacji między ekspozycją na hałas środowiskowy a zwiększoną zachorowalnością na choroby układu krążenia, zaburzeń snu oraz negatywnego wpływu na dobrostan psychiczny ludzi | E6: 2027–2030 | F6: podmioty wybrane w drodze konkursu ogłaszanego przez MZ | G6: zadanie powierzane w trybie konkursowym
A7: 3 | B7: 2.1 Środowisko – zmniejszenie wpływu czynników środowiskowych na zdrowie | C7: Działania wspierające | D7: Ocena wpływu jakości powietrza na stan zdrowia z wykorzystaniem programów udostępnianych przez Światową Organizację Zdrowia AirQ+ lub CaRBonH | E7: 2027–2030 | F7: podmioty wybrane w drodze konkursu ogłaszanego przez MZ | G7: zadanie powierzane w trybie konkursowym
A8: 4 | B8: 2.1 Środowisko – zmniejszenie wpływu czynników środowiskowych na zdrowie | C8: Działania wspierające | D8: Przeprowadzenie analizy i oceny w aspekcie potencjalnych zagrożeń dla zdrowia ludzi narażonych na emisję światłem, w tym opartym na technologii LED, w przestrzeni publicznej i w pomieszczeniach zamkniętych | E8: 2027–2036 | F8: podmioty wybrane w drodze konkursu ogłoszonego przez MZ | G8: zadanie powierzane w trybie konkursowym
A9: 5 | B9: 2.1 Środowisko – zmniejszenie wpływu czynników środowiskowych na zdrowie | C9: Działania wspierające | D9: Przeprowadzenie badań jakości powietrza w placówkach systemu oświaty | E9: 2027–2036 | F9: podmioty wybrane w drodze konkursu ogłoszonego przez MZ | G9: zadanie powierzone w trybie konkursowym
A10: 6 | B10: 2.2 Temperatura i zmiany klimatu – zapobieganie wzrostowi obciążeń zdrowotnych wynikających z ekspozycji na ekstremalne temperatury i skutki zmiany klimatu | C10: Działania regulacyjne | D10: Opracowanie podręcznika działań (protokołu postępowania) dla służb publicznych w razie wystąpienia zjawisk ekstremalnych / klęsk żywiołowych | E10: 2028 - 2029,2032 – 2033, 2035-2036 | F10: MSW; podmioty wybrane w drodze konkursu ogłaszanego przez MZ | G10: Zadanie własne; zadanie powierzane w trybie konkursowym
A11: 7 | B11: 2.2 Temperatura i zmiany klimatu – zapobieganie wzrostowi obciążeń zdrowotnych wynikających z ekspozycji na ekstremalne temperatury i skutki zmiany klimatu | C11: Interwencje zdrowia publicznego | D11: Podnoszenie poziomu wiedzy w zakresie niwelowania skutków kryzysu klimatycznego oraz wpływu zmiany klimatu na zdrowie, bezpieczeństwo i wydajność pracowników | E11: 2027–2037 | F11: KPRM, MZ, MK, MP, MSW, IMP; podmioty wybrane w drodze konkursu ogłaszanego przez MK | G11: zadanie własne; zadanie powierzane w trybie konkursowym
A12: 8 | B12: 2.2 Temperatura i zmiany klimatu – zapobieganie wzrostowi obciążeń zdrowotnych wynikających z ekspozycji na ekstremalne temperatury i skutki zmiany klimatu | C12: Interwencje zdrowia publicznego | D12: Opracowanie i prowadzenie kampanii informacyjnych i edukacyjnych dla różnych grup społecznych, pomagających w adaptacji do skutków zmiany klimatu | E12: 2027–2037 | F12: MK; podmioty wybrane w drodze konkursu ogłaszanego przez MK | G12: zadanie własne; zadanie powierzane w trybie konkursowym
A13: 9 | B13: 2.2 Temperatura i zmiany klimatu – zapobieganie wzrostowi obciążeń zdrowotnych wynikających z ekspozycji na ekstremalne temperatury i skutki zmiany klimatu | C13: Działania wspierające | D13: Analiza wpływu zmian klimatu, szczególnie fal upałów i ekstremalnych temperatur na zdrowie ludzi (w tym ryzyko zachorowań na choroby układu krążenia, neurologicznych – udaru mózgu) wraz z opracowaniem działań profilaktycznych i adaptacyjnych | E13: 2027–2031 | F13: MK; NIZP PZH-PIB w ramach umowy z MZ zawartej na wniosek NIZP PZH – PIB; podmioty wybrane w drodze konkursu ogłaszanego przez MZ; | G13: zadanie własne; zadanie powierzane w trybie wnioskowym; zadanie powierzane w trybie konkursowym
A14: 10 | B14: 2.2 Temperatura i zmiany klimatu – zapobieganie wzrostowi obciążeń zdrowotnych wynikających z ekspozycji na ekstremalne temperatury i skutki zmiany klimatu | C14: Działania wspierające | D14: Opracowanie strategii mitygacji zmian klimatu dla sektora ochrony zdrowia, ukierunkowanej na ograniczanie wpływu tego sektora na środowisko oraz zwiększenie jego odporności na zagrożenia klimatyczne | E14: 2027–2031 | F14: podmioty wybrane w drodze konkursu ogłaszanego przez MZ | G14: zadanie powierzane w trybie konkursowym
A15: 11 | B15: 2.3 Miejsce pracy – zmniejszenie rozpowszechnienia chorób zawodowych i związanych z pracą | C15: Działania regulacyjne | D15: Aktualizacja wykazu czynników rakotwórczych w środowisku pracy | E15: 2027–2036 | F15: JST, KIF; IMP oraz IMW w ramach umowy z MZ zawartej na wniosek danego instytutu oraz WIHE, w odniesieniu do służb mundurowych w ramach umowy z MZ zawartej na wniosek WIHE, CIOP-PIB w ramach umowy z MP zawartej na wniosek CIOP-PIB | G15: zadanie własne; zadanie powierzane w trybie wnioskowym
A16: 12 | B16: 2.3 Miejsce pracy – zmniejszenie rozpowszechnienia chorób zawodowych i związanych z pracą | C16: Działania regulacyjne | D16: Standardy BHP w zakresie czynników biologicznych | E16: 2027–2036 | F16: JST, KIF; IMP oraz IMW w ramach umowy z MZ zawartej na wniosek danego instytutu oraz WIHE, w odniesieniu do służb mundurowych w ramach umowy z MZ zawartej na wniosek WIHE, CIOP-PIB w ramach umowy z MP zawartej na wniosek CIOP-PIB | G16: zadanie własne; zadanie powierzane w trybie wnioskowym
... A25: 21 | B25: 2.4 Lekooporność drobnoustrojów (One Health) - przeciwdziałanie lekooporności | C25: Interwencje zdrowia publicznego | D25: Szkolenia różnych grup zawodowych w zakresie lekooporności | E25: 2027–2031 | F25: MZ, MR, MRR, MON, PIS, NIL; NIZP PZH-PIB oraz NIL na podstawie umowy zawartej z MZ na wniosek NIL, NIZP PZH-PIB na podstawie umowy zawartej z MZ na wniosek NIZP PZH-PIB | G25: zadanie własne; zadanie powierzane w trybie wnioskowym

Sheet CO3
A1: CEL OPERACYJNY 3: Zdrowie psychiczne – tworzenie warunków sprzyjających utrzymaniu i poprawie zdrowia psychicznego na każdym etapie życia
A3: Lp. | B3: Cel szczegółowy | C3: Kategoria działania | D3: Nazwa zadania | E3: Okres realizacji | F3: Realizator | G3: Tryb realizacji | H3: 2027 | M3: 2028 | R3: 2029 | W3: 2030 | AB3: 2031 | AG3: 2032 | AL3: 2033 | AQ3: 2034 | AV3: 2035 | BA3: 2036 | BF3: Źródło weryfikacji miernika | BG3: Uwagi / założenia
H4: Planowana kwota (zł) | I4: Proponowany miernik rezultatu | J4: Jednostka miary | K4: Planowana wartość miernika | L4: Wartość osiągnięta | M4: Planowana kwota (zł) | N4: Proponowany miernik rezultatu | O4: Jednostka miary | P4: Planowana wartość miernika | Q4: Wartość osiągnięta | R4: Planowana kwota (zł) | S4: Proponowany miernik rezultatu | T4: Jednostka miary | U4: Planowana wartość miernika | V4: Wartość osiągnięta | W4: Planowana kwota (zł) | X4: Proponowany miernik rezultatu | Y4: Jednostka miary | Z4: Planowana wartość miernika | AA4: Wartość osiągnięta | AB4: Planowana kwota (zł) | AC4: Proponowany miernik rezultatu | AD4: Jednostka miary | AE4: Planowana wartość miernika | AF4: Wartość osiągnięta | AG4: Planowana kwota (zł) | AH4: Proponowany miernik rezultatu | AI4: Jednostka miary | AJ4: Planowana wartość miernika | AK4: Wartość osiągnięta | AL4: Planowana kwota (zł) | AM4: Proponowany miernik rezultatu | AN4: Jednostka miary | AO4: Planowana wartość miernika | AP4: Wartość osiągnięta | AQ4: Planowana kwota (zł) | AR4: Proponowany miernik rezultatu | AS4: Jednostka miary | AT4: Planowana wartość miernika | AU4: Wartość osiągnięta | AV4: Planowana kwota (zł) | AW4: Proponowany miernik rezultatu | AX4: Jednostka miary | AY4: Planowana wartość miernika | AZ4: Wartość osiągnięta | BA4: Planowana kwota (zł) | BB4: Proponowany miernik rezultatu | BC4: Jednostka miary | BD4: Planowana wartość miernika | BE4: Wartość osiągnięta
A5: 1 | B5: 3.1 Promocja zdrowia psychicznego i profilaktyka zaburzeń psychicznych – poprawa stanu zdrowia psychicznego społeczeństwa przez działania informacyjno-promocyjne i profilaktyczne | C5: Działania regulacyjne | D5: Opracowanie, aktualizacja i upowszechnienie rekomendacji dla szkół i uczelni, skierowanych do uczniów, studentów, oraz kadry pedagogicznej w zakresie promocji zdrowa psychicznego i profilaktyki zaburzeń psychicznych | E5: 2027–2036 | F5: MSWiN, MEN; podmioty wybrane w drodze konkursu ogłaszanego przez MEN | G5: zadanie własne; zadanie powierzane w trybie konkursowym
A6: 2 | B6: 3.1 Promocja zdrowia psychicznego i profilaktyka zaburzeń psychicznych – poprawa stanu zdrowia psychicznego społeczeństwa przez działania informacyjno-promocyjne i profilaktyczne | C6: Działania regulacyjne | D6: Opracowanie, aktualizacja i upowszechnienie rekomendacji dla jednostek podległych i nadzorowanych, kadry tych jednostek, jak również grup zawodowych (m.in.: policjanci, żołnierze, sędziowie) w zakresie promocji zdrowa psychicznego i profilaktyki zaburzeń psychicznych | E6: 2027–2036 | F6: MS, MSW, MON; podmioty wybrane w drodze konkursu ogłaszanego przez MSW | G6: zadanie własne; zadanie powierzane w trybie konkursowym
A7: 3 | B7: 3.1 Promocja zdrowia psychicznego i profilaktyka zaburzeń psychicznych – poprawa stanu zdrowia psychicznego społeczeństwa przez działania informacyjno-promocyjne i profilaktyczne | C7: Interwencje zdrowia publicznego | D7: Realizacja projektów i programów edukacyjnych, wychowawczych, interwencyjnych oraz profilaktycznych opartych na podstawach naukowych mających na celu podniesienie wiedzy z zakresu zdrowia psychicznego oraz rozwijanie czynników chroniących w obszarze zdrowia psychicznego | E7: 2027–2036 | F7: JST, MZ, IPiN, MSWiN, MON; WIML na podstawie umowy zawartej na wniosek WIML; podmioty wybrane w drodze konkursu ogłaszanego przez MZ; MEN oraz podmioty wybrane w drodze konkursu ogłaszanego przez MEN; MS oraz podmioty wybrane w drodze konkursu ogłaszanego przez MS; MSW oraz podmioty wybrane w drodze konkursu ogłaszanego przez MSW; | G7: zadanie własne; zadanie powierzane w trybie wnioskowym; zadanie powierzane w trybie konkursowym
A8: 4 | B8: 3.1 Promocja zdrowia psychicznego i profilaktyka zaburzeń psychicznych – poprawa stanu zdrowia psychicznego społeczeństwa przez działania informacyjno-promocyjne i profilaktyczne | C8: Interwencje zdrowia publicznego | D8: Prowadzenie centrum wsparcia dla dzieci i młodzieży w kryzysie psychicznym | E8: 2028–2036 | F8: podmioty wybrane w drodze konkursu ogłaszanego przez MZ | G8: zadanie powierzane w trybie konkursowym
A9: 5 | B9: 3.1 Promocja zdrowia psychicznego i profilaktyka zaburzeń psychicznych – poprawa stanu zdrowia psychicznego społeczeństwa przez działania informacyjno-promocyjne i profilaktyczne | C9: Interwencje zdrowia publicznego | D9: Prowadzenie centrum wsparcia dla osób dorosłych w kryzysie psychicznym, w tym dla służb mundurowych i ratowniczych oraz ich rodzin | E9: 2028–2036 | F9: podmioty wybrane w drodze konkursu ogłaszanego przez MZ | G9: zadanie powierzane w trybie konkursowym
A10: 6 | B10: 3.1 Promocja zdrowia psychicznego i profilaktyka zaburzeń psychicznych – poprawa stanu zdrowia psychicznego społeczeństwa przez działania informacyjno-promocyjne i profilaktyczne | C10: Interwencje zdrowia publicznego | D10: Podniesienie kompetencji kadr medycznych i innych specjalistów uczestniczących w realizacji działań profilaktycznych w zakresie zdrowia psychicznego | E10: 2027–2036 | F10: MZ, CMKP; podmioty wybrane w drodze konkursu ogłaszanego przez MZ | G10: zadanie własne; zadanie powierzane w trybie konkursowym
A11: 7 | B11: 3.1 Promocja zdrowia psychicznego i profilaktyka zaburzeń psychicznych – poprawa stanu zdrowia psychicznego społeczeństwa przez działania informacyjno-promocyjne i profilaktyczne | C11: Interwencje zdrowia publicznego | D11: Wsparcie zdrowia psychicznego migrantów | E11: 2027–2036 | F11: podmioty wybrane w drodze konkursu ogłaszanego przez MZ | G11: zadanie powierzane w trybie konkursowym
A12: 8 | B12: 3.1 Promocja zdrowia psychicznego i profilaktyka zaburzeń psychicznych – poprawa stanu zdrowia psychicznego społeczeństwa przez działania informacyjno-promocyjne i profilaktyczne | C12: Interwencje zdrowia publicznego | D12: Realizacja zadań na rzecz przeciwdziałania skutkom zdrowotnym przestępstw przeciwko wolności seksualnej i obyczajności na szkodę małoletnich | E12: 2027–2036 | F12: podmioty wybrane w drodze konkursu ogłaszanego przez MZ | G12: zadanie powierzane w trybie konkursowym
A13: 9 | B13: 3.1 Promocja zdrowia psychicznego i profilaktyka zaburzeń psychicznych – poprawa stanu zdrowia psychicznego społeczeństwa przez działania informacyjno-promocyjne i profilaktyczne | C13: Interwencje zdrowia publicznego | D13: Zwiększenie odporności służb mundurowych i pracowników cywilnych, ratowników medycznych i innych pracowników systemu ochrony zdrowia na sytuacje stresowe, w tym zachowania agresywne | E13: 2027–2036 | F13: MZ, CMKP; KGP i KGPSP w ramach umowy zawartej z MSW na wniosek KGP i KGPSP; WIML, WIM-PIB w ramach umowy zawartej z MON na wniosek WIML, WIM-PIB | G13: zadanie własne; zadanie powierzane w trybie wnioskowym
A14: 10 | B14: 3.1 Promocja zdrowia psychicznego i profilaktyka zaburzeń psychicznych – poprawa stanu zdrowia psychicznego społeczeństwa przez działania informacyjno-promocyjne i profilaktyczne | C14: Działania wspierające | D14: Podniesienie efektywności zadań z zakresu profilaktyki, w tym: monitorowanie realizowanych zadań w obszarze celu operacyjnego ewaluacja skuteczności i przygotowanie rekomendowanej listy programów i katalogu dobrych praktyk w zakresie ochrony zdrowia psychicznego | E14: 2027–2036 2029 | F14: IPiN na podstawie umowy zawartej z MZ na wniosek IPiN | G14: zadanie powierzane w trybie wnioskowym
A15: 11 | B15: 3.1 Promocja zdrowia psychicznego i profilaktyka zaburzeń psychicznych – poprawa stanu zdrowia psychicznego społeczeństwa przez działania informacyjno-promocyjne i profilaktyczne | C15: Działania wspierające | D15: Kompleksowe badanie stanu zdrowia psychicznego społeczeństwa i jego uwarunkowań (Ezop III) wraz z rekomendacjami | E15: 2027–2036 | F15: IPiN na podstawie umowy zawartej z MZ na wniosek IPiN | G15: zadanie powierzane w trybie wnioskowym
A16: 12 | B16: 3.1 Promocja zdrowia psychicznego i profilaktyka zaburzeń psychicznych – poprawa stanu zdrowia psychicznego społeczeństwa przez działania informacyjno-promocyjne i profilaktyczne | C16: Działania wspierające | D16: Organizacja wojewódzkich warsztatów dotyczących tworzenia regionalnych sieci współpracy na rzecz zdrowia psychicznego z udziałem przedstawicieli ochrony zdrowia, oświaty, opieki społecznej i systemu sprawiedliwości | E16: 2029–2034 | F16: podmioty wybrane w drodze konkursu ogłaszanego przez MZ | G16: zadanie powierzane w trybie konkursowym
... A35: 31 | B35: 3.4 Zdrowie psychiczne osób starszych – poprawa stanu zdrowia psychicznego seniorów oraz wsparcie dla ich opiekunów | C35: Działania wspierające | D35: Ewaluacja programów wsparcia psychicznego dla osób starszych | E35: 2027–2036 | F35: MZ; IPiN na podstawie umowy zawartej z MZ na wniosek IPiN | G35: zadanie własne; zadanie powierzane w trybie wnioskowym

Sheet CO4
A1: CEL OPERACYJNY 4: Zadania wspierające – wzmocnienie systemowych podstaw realizacji polityki zdrowia publicznego
A3: Lp. | B3: Cel szczegółowy | C3: Kategoria działania | D3: Nazwa zadania | E3: Okres realizacji | F3: Realizator | G3: Tryb realizacji | H3: 2027 | M3: 2028 | R3: 2029 | W3: 2030 | AB3: 2031 | AG3: 2032 | AL3: 2033 | AQ3: 2034 | AV3: 2035 | BA3: 2036 | BF3: Źródło weryfikacji miernika | BG3: Uwagi / założenia
H4: Planowana kwota (zł) | I4: Proponowany miernik rezultatu | J4: Jednostka miary | K4: Planowana wartość miernika | L4: Wartość osiągnięta | M4: Planowana kwota (zł) | N4: Proponowany miernik rezultatu | O4: Jednostka miary | P4: Planowana wartość miernika | Q4: Wartość osiągnięta | R4: Planowana kwota (zł) | S4: Proponowany miernik rezultatu | T4: Jednostka miary | U4: Planowana wartość miernika | V4: Wartość osiągnięta | W4: Planowana kwota (zł) | X4: Proponowany miernik rezultatu | Y4: Jednostka miary | Z4: Planowana wartość miernika | AA4: Wartość osiągnięta | AB4: Planowana kwota (zł) | AC4: Proponowany miernik rezultatu | AD4: Jednostka miary | AE4: Planowana wartość miernika | AF4: Wartość osiągnięta | AG4: Planowana kwota (zł) | AH4: Proponowany miernik rezultatu | AI4: Jednostka miary | AJ4: Planowana wartość miernika | AK4: Wartość osiągnięta | AL4: Planowana kwota (zł) | AM4: Proponowany miernik rezultatu | AN4: Jednostka miary | AO4: Planowana wartość miernika | AP4: Wartość osiągnięta | AQ4: Planowana kwota (zł) | AR4: Proponowany miernik rezultatu | AS4: Jednostka miary | AT4: Planowana wartość miernika | AU4: Wartość osiągnięta | AV4: Planowana kwota (zł) | AW4: Proponowany miernik rezultatu | AX4: Jednostka miary | AY4: Planowana wartość miernika | AZ4: Wartość osiągnięta | BA4: Planowana kwota (zł) | BB4: Proponowany miernik rezultatu | BC4: Jednostka miary | BD4: Planowana wartość miernika | BE4: Wartość osiągnięta
A5: 1 | B5: 4.1 Popularyzacja profilaktyki i kompetencje zdrowotne (health literacy) – podniesienie poziomu świadomości zdrowotnej społeczeństwa | C5: Interwencje zdrowia publicznego | D5: Działania na rzecz podnoszenia zgłaszalności do programów profilaktycznych i szczepień obowiązkowych, w tym: analiza skuteczności realizowanych interwencji zdrowia publicznego w ramach poszczególnych celów operacyjnych opracowanie rekomendacji służących podnoszeniu jakości programów i zgłaszalności opracowanie i publikowanie treści promocyjnych, edukacyjnych służących promocji zdrowia i programów profilaktycznych | E5: 2027–2036 | F5: MZ, NFZ, JST; podmioty wybrane w drodze konkursu ogłaszanego przez MZ | G5: zadanie własne; zadanie powierzane w trybie konkursowym
A6: 2 | B6: 4.1 Popularyzacja profilaktyki i kompetencje zdrowotne (health literacy) – podniesienie poziomu świadomości zdrowotnej społeczeństwa | C6: Interwencje zdrowia publicznego | D6: Szkolenia personelu medycznego - wzmocnienie komunikacji z pacjentem i zdolności do walki z dezinformacją | E6: 2027–2036 | F6: MZ, NFZ; podmioty wybrane w drodze konkursu ogłaszanego przez MZ | G6: zadanie własne; zadanie powierzane w trybie konkursowym
A7: 3 | B7: 4.1 Popularyzacja profilaktyki i kompetencje zdrowotne (health literacy) – podniesienie poziomu świadomości zdrowotnej społeczeństwa | C7: Działania wspierające | D7: Badania poziomu kompetencji zdrowotnych społeczeństwa | E7: 2028–2036 | F7: MZ, NFZ; podmioty wybrane w drodze konkursu ogłaszanego przez MZ | G7: zadanie własne; zadanie powierzane w trybie konkursowym
A8: 4 | B8: 4.1 Popularyzacja profilaktyki i kompetencje zdrowotne (health literacy) – podniesienie poziomu świadomości zdrowotnej społeczeństwa | C8: Działania wspierające | D8: Monitorowanie dezinformacji w ochronie zdrowia | E8: 2027–2036 | F8: NASK, MI, MZ; podmioty wybrane w drodze konkursu ogłaszanego przez MZ | G8: zadanie własne; zadanie powierzane w trybie konkursowym
A9: 5 | B9: 4.1 Popularyzacja profilaktyki i kompetencje zdrowotne (health literacy) – podniesienie poziomu świadomości zdrowotnej społeczeństwa | C9: Działania wspierające | D9: Ocena skuteczności interwencji edukacyjnych | E9: 2027–2036 | F9: MZ; podmioty wybrane w drodze konkursu ogłaszanego przez MZ | G9: zadanie własne; zadanie powierzane w trybie konkursowym
A10: 6 | B10: 4.2 Ochrona przed chorobami zakaźnymi – wzmocnienie systemowych podstaw zapobiegania i zwalczania chorób zakaźnych | C10: Interwencje zdrowia publicznego | D10: Prowadzenie portalu informacyjnego szczepienia.info dotyczącego szczepień ochronnych – działania promocyjne i popularyzacyjne w obszarze szczepień ochronnych ze szczególnym uwzględnieniem obowiązku szczepień w Polsce | E10: 2027–2036 | F10: NIZP PZH-PIB, w ramach umowy z MZ zawartej na wniosek NIZP PZH-PIB | G10: zadanie powierzane w trybie wnioskowym
A11: 7 | B11: 4.2 Ochrona przed chorobami zakaźnymi – wzmocnienie systemowych podstaw zapobiegania i zwalczania chorób zakaźnych | C11: Interwencje zdrowia publicznego | D11: Działania promocyjne i edukacyjne szczepień ochronnych w Polsce | E11: 2027–2036 | F11: GIS, PIS, RPP, NIL, NILek, NIPiP; podmioty wybrane w drodze konkursu ogłaszanego przez MZ | G11: zadanie własne; zadanie powierzane w trybie konkursowym
A12: 8 | B12: 4.2 Ochrona przed chorobami zakaźnymi – wzmocnienie systemowych podstaw zapobiegania i zwalczania chorób zakaźnych | C12: Interwencje zdrowia publicznego | D12: Budowanie świadomości społecznej, wiedzy i kompetencji w zakresie gruźlicy | E12: 2027–2036 | F12: GIS; IGiChP na podstawie umowy zawartej z MZ na wniosek IGiChP | G12: zadanie własne; zadanie powierzane w trybie wnioskowym
A13: 9 | B13: 4.3 Wyzwania demograficzne – dostosowanie działań zdrowia publicznego do zmian demograficznych | C13: Działania regulacyjne | D13: Opracowanie skoordynowanego systemu informacji na temat dostępnych form opieki długoterminowej w ramach systemów ochrony zdrowia i pomocy społecznej | E13: 2027–2028 | F13: KPRM, MZ, MRD, MZS, NFZ, JST, NIGRiR; podmioty wybrane w drodze konkursów ogłaszanych przez MZ | G13: zadanie własne; zadanie powierzane w trybie konkursowym
A14: 10 | B14: 4.3 Wyzwania demograficzne – dostosowanie działań zdrowia publicznego do zmian demograficznych | C14: Działania regulacyjne | D14: Przygotowanie i upowszechnienie wytycznych dla samorządów dotyczących tworzenia przestrzeni przyjaznych dla chorych z zaburzeniami otępiennymi | E14: 2027–2028 | F14: MZ, MRD, MZS, NIZP PZH-PIB, JST; podmioty wybrane w drodze konkursów ogłaszanych przez KPRM | G14: zadanie własne; zadanie powierzane w trybie konkursowym
A15: 11 | B15: 4.3 Wyzwania demograficzne – dostosowanie działań zdrowia publicznego do zmian demograficznych | C15: Działania regulacyjne | D15: Przygotowanie i upowszechnienie praktycznych informacji dotyczących kwestii prawnych istotnych dla osób z chorobami otępiennymi i ich opiekunów | E15: 2029 | F15: KPRM, RPO, RPP, MZ, NGO; podmioty wybrane w drodze konkursów ogłaszanych przez MS | G15: zadanie własne; zadanie powierzane w trybie konkursowym
A16: 12 | B16: 4.3 Wyzwania demograficzne – dostosowanie działań zdrowia publicznego do zmian demograficznych | C16: Działania regulacyjne | D16: Opracowanie i upowszechnienie wytycznych dotyczących projektowania przestrzeni wewnętrznych dla osób z zaburzeniami otępiennymi | E16: 2027–2028 | F16: NIZP PZH-PIB na podstawie umowy zawartej z MZ na wniosek NIZP PZH-PIB | G16: zadanie powierzane w trybie wnioskowym
... A33: 29 | B33: 4.4 Badania naukowe i analizy – zapewnienie podstaw naukowych dla działań zdrowia publicznego | C33: Działania wspierające | D33: Przygotowanie raportu „Sytuacja zdrowotna ludności Polski i jej uwarunkowania” | E33: 2028, 2030, 2032, 2034, 2036 | F33: NIZP PZH-PIB w ramach umowy z MZ zawartej na wniosek NIZP PZH-PIB | G33: zadanie powierzane w trybie wnioskowym

Sheet Podsumowanie
A1: PODSUMOWANIE PLANOWANYCH KWOT NPZ 2027–2036
A3: Cel operacyjny | B3: 2027 | C3: 2028 | D3: 2029 | E3: 2030 | F3: 2031 | G3: 2032 | H3: 2033 | I3: 2034 | J3: 2035 | K3: 2036 | L3: Razem 2027–2036
A4: CO1 | B4: =SUM('CO1'!H5:H60) -> 0 | C4: =SUM('CO1'!M5:M60) -> 0 | D4: =SUM('CO1'!R5:R60) -> 0 | E4: =SUM('CO1'!W5:W60) -> 0 | F4: =SUM('CO1'!AB5:AB60) -> 0 | G4: =SUM('CO1'!AG5:AG60) -> 0 | H4: =SUM('CO1'!AL5:AL60) -> 0 | I4: =SUM('CO1'!AQ5:AQ60) -> 0 | J4: =SUM('CO1'!AV5:AV60) -> 0 | K4: =SUM('CO1'!BA5:BA60) -> 0 | L4: =SUM(B4:K4) -> 0
A5: CO2 | B5: =SUM('CO2'!H5:H25) -> 0 | C5: =SUM('CO2'!M5:M25) -> 0 | D5: =SUM('CO2'!R5:R25) -> 0 | E5: =SUM('CO2'!W5:W25) -> 0 | F5: =SUM('CO2'!AB5:AB25) -> 0 | G5: =SUM('CO2'!AG5:AG25) -> 0 | H5: =SUM('CO2'!AL5:AL25) -> 0 | I5: =SUM('CO2'!AQ5:AQ25) -> 0 | J5: =SUM('CO2'!AV5:AV25) -> 0 | K5: =SUM('CO2'!BA5:BA25) -> 0 | L5: =SUM(B5:K5) -> 0
A6: CO3 | B6: =SUM('CO3'!H5:H35) -> 0 | C6: =SUM('CO3'!M5:M35) -> 0 | D6: =SUM('CO3'!R5:R35) -> 0 | E6: =SUM('CO3'!W5:W35) -> 0 | F6: =SUM('CO3'!AB5:AB35) -> 0 | G6: =SUM('CO3'!AG5:AG35) -> 0 | H6: =SUM('CO3'!AL5:AL35) -> 0 | I6: =SUM('CO3'!AQ5:AQ35) -> 0 | J6: =SUM('CO3'!AV5:AV35) -> 0 | K6: =SUM('CO3'!BA5:BA35) -> 0 | L6: =SUM(B6:K6) -> 0
A7: CO4 | B7: =SUM('CO4'!H5:H33) -> 0 | C7: =SUM('CO4'!M5:M33) -> 0 | D7: =SUM('CO4'!R5:R33) -> 0 | E7: =SUM('CO4'!W5:W33) -> 0 | F7: =SUM('CO4'!AB5:AB33) -> 0 | G7: =SUM('CO4'!AG5:AG33) -> 0 | H7: =SUM('CO4'!AL5:AL33) -> 0 | I7: =SUM('CO4'!AQ5:AQ33) -> 0 | J7: =SUM('CO4'!AV5:AV33) -> 0 | K7: =SUM('CO4'!BA5:BA33) -> 0 | L7: =SUM(B7:K7) -> 0
A8: RAZEM | B8: =SUM(B4:B7) -> 0 | C8: =SUM(C4:C7) -> 0 | D8: =SUM(D4:D7) -> 0 | E8: =SUM(E4:E7) -> 0 | F8: =SUM(F4:F7) -> 0 | G8: =SUM(G4:G7) -> 0 | H8: =SUM(H4:H7) -> 0 | I8: =SUM(I4:I7) -> 0 | ... L8: =SUM(L4:L7) -> 0
